BEGIN:VCALENDAR
VERSION:2.0
PRODID:-//ChamberMaster//Event Calendar 2.0//EN
METHOD:PUBLISH
X-PUBLISHED-TTL:P3D
REFRESH-INTERVAL:P3D
CALSCALE:GREGORIAN
BEGIN:VEVENT
DTSTART:20160812T233000Z
DTEND:20160813T010000Z
X-MICROSOFT-CDO-ALLDAYEVENT:FALSE
SUMMARY:Back to Class Family Event
DESCRIPTION:Believe it or not\, summer vacation is almost over. As the days start to get a little shorter next month\, it's time to shop for school supplies and get children prepared to go back to class.\n\nTo celebrate the back-to-class season\, YMCA of Metro Chicago centers across the city and the suburbs are holding Back-to-Class Block Parties throughout the month of August. All of the events are free and open to both members and the community\, and will feature tons of family-friendly games and activities.\n\nOur Back-to-Class Block Party at the Lake View YMCA will be Friday\, August 12 from 6:30 to 8 p.m.\, featuring a camp talent show!\n\nOf course\, school isn't the only place your children can learn\, grow and thrive this fall. The YMCA of Metro Chicago will be offering early learning programs\, before and after school care\, swimming lessons\, sports and fitness programs and so much more. Fall registration opens August 1!
X-ALT-DESC;FMTTYPE=text/html:<p>Believe it or not\, summer vacation is almost over. As the days start to get a little shorter next month\, it&rsquo\;s time to shop for school supplies and get children prepared to go back to class.</p>\n\n<p>To celebrate the back-to-class season\, YMCA of Metro Chicago centers across the city and the suburbs are holding&nbsp\;<strong>Back-to-Class Block Parties</strong>&nbsp\;throughout the month of August. All of the events are free and open to both members and the community\, and will feature tons of family-friendly games and activities.</p>\n\n<p>Our Back-to-Class Block Party at the&nbsp\;<strong>Lake View YMCA will be&nbsp\;<strong>Friday\, August 12 from 6:30 to 8 p.m.</strong>\, featuring a camp talent show!</strong></p>\n\n<p>Of course\, school isn&rsquo\;t the only place your children can learn\, grow and thrive this fall. The YMCA of Metro Chicago will be offering&nbsp\;<a href="http://www.ymcachicago.org/programs/child-care-education/" style="color: rgb(244\, 121\, 32)\; text-decoration: none\; font-weight: bold\; font-stretch: normal\;" title="early learning">early learning programs</a>\,&nbsp\;<a href="http://www.ymcachicago.org/programs/school-age/" style="color: rgb(244\, 121\, 32)\; text-decoration: none\; font-weight: bold\; font-stretch: normal\;" title="before and after school">before and after school care</a>\,&nbsp\;<a href="http://www.ymcachicago.org/programs/swimming/" style="color: rgb(244\, 121\, 32)\; text-decoration: none\; font-weight: bold\; font-stretch: normal\;" title="swimming lessons">swimming lessons</a>\,&nbsp\;<a href="http://www.ymcachicago.org/programs/sports/" style="color: rgb(244\, 121\, 32)\; text-decoration: none\; font-weight: bold\; font-stretch: normal\;" title="sports programs">sports</a>&nbsp\;and&nbsp\;<a href="http://www.ymcachicago.org/programs/fitness/" style="color: rgb(244\, 121\, 32)\; text-decoration: none\; font-weight: bold\; font-stretch: normal\;" title="fitness programs">fitness programs</a>&nbsp\;and so much more.&nbsp\;<strong>Fall registration opens August 1</strong>!</p>\n
LOCATION:Lake View YMCA 3333 N. Marshfield Ave.\, Chicago\, IL 60657
UID:e.1819.3553
SEQUENCE:3
DTSTAMP:20260422T080808Z
URL:https://members.lakeviewroscoevillage.org/events/details/back-to-class-family-event-08-12-2016-3553
END:VEVENT

END:VCALENDAR
