BEGIN:VCALENDAR
VERSION:2.0
PRODID:-//ChamberMaster//Event Calendar 2.0//EN
METHOD:PUBLISH
X-PUBLISHED-TTL:P3D
REFRESH-INTERVAL:P3D
CALSCALE:GREGORIAN
BEGIN:VEVENT
DTSTART;VALUE=DATE:20141107
DTEND;VALUE=DATE:20141108
TRANSP:TRANSPARENT
X-MICROSOFT-CDO-ALLDAYEVENT:TRUE
SUMMARY:BACP's Smart Grid Workshop
DESCRIPTION:Presented by Smart Grid Program at the City and ComEd \n\n\n\nThe Smart Grid 101 workshop will cover the basics of what smart grid means for the residents and businesses of Chicago   who will all receive smart meters by 2017.\n\nThe City's Sustainability team will explain how smart grid and Retrofit Chicago promote sustainability through energy and financial savings ComEd's Smart Ideas for Your Business  will be there to share tips on creating a more energy- efficient business with an improved bottom line.
X-ALT-DESC;FMTTYPE=text/html:<blockquote style="color:rgb(34\, 34\, 34)\;font-family:arial\, sans-serif\;font-size:12.8000001907349px\;font-style:normal\;line-height:normal\;" type="cite"><em><span style="font-size:9pt\;">Presented by Smart Grid Program at the City and ComEd&nbsp\;</span></em><br />\n<br />\n<span style="font-size:10pt\;">The&nbsp\;<em>Smart Grid 101</em>&nbsp\;workshop will cover the basics of what smart grid means for the residents and businesses of Chicago &ndash\; who will all receive smart meters by 2017.<br />\nThe City&rsquo\;s Sustainability team will explain how smart grid and Retrofit Chicago promote sustainability through energy and financial savings&nbsp\;ComEd&#39\;s&nbsp\;<em>Smart Ideas for Your Business</em>&reg\; will be there to share tips on creating a more energy- efficient business with an improved bottom line.</span></blockquote>\n
LOCATION:City Hall 121 N LaSalle Room 805
UID:e.1819.516
SEQUENCE:3
DTSTAMP:20260423T204728Z
URL:https://members.lakeviewroscoevillage.org/events/details/bacp-s-smart-grid-workshop-11-07-2014-516
END:VEVENT

END:VCALENDAR
