BEGIN:VCALENDAR
VERSION:2.0
PRODID:-//ChamberMaster//Event Calendar 2.0//EN
METHOD:PUBLISH
X-PUBLISHED-TTL:P3D
REFRESH-INTERVAL:P3D
CALSCALE:GREGORIAN
BEGIN:VEVENT
DTSTART:20140518T140000Z
DTEND:20140518T190000Z
X-MICROSOFT-CDO-ALLDAYEVENT:FALSE
SUMMARY:Be Healthy for Good Wellness Event + Walk
DESCRIPTION:Community Counseling Centers of Chicago (C4)'s Be Healthy for Good Wellness Festival is fast approaching on May 18\, 9am-2pm at Montrose Harbor!\n\n\n\nRegister today to participate in C4 Miles 4-mile run or 2-mile walk to benefit people supported by C4.  Through counseling and therapy programs\, C4 empowers people as they work through some of the most difficult challenges in life.  \n\n\n\nRegister online by May 14 for a discounted entry fee.  Bring your family and friends!  You can even sign up as a team!  Visit www.c4chicago.org to register today!
X-ALT-DESC;FMTTYPE=text/html:<font face="sans-serif" size="3" style="color: rgb(0\, 0\, 0)\; font-size: medium\; line-height: normal\;">Community Counseling Centers of Chicago (C4)&rsquo\;s Be Healthy for Good Wellness Festival is fast approaching on May 18\, 9am-2pm at Montrose Harbor!<br />\n<br />\nRegister today to participate in C4 Miles 4-mile run or 2-mile walk to benefit people supported by C4. &nbsp\;Through counseling and therapy programs\, C4 empowers people as they work through some of the most difficult challenges in life. &nbsp\;<br />\n<br />\nRegister online by May 14 for a discounted entry fee. &nbsp\;Bring your family and friends! &nbsp\;You can even sign up as a team! &nbsp\;Visit&nbsp\;</font><font color="blue" face="sans-serif" size="3" style="font-size: medium\; line-height: normal\;"><u><a href="http://www.c4chicago.org/" target="_blank">www.c4chicago.org</a>&nbsp\;</u></font><font face="sans-serif" size="3" style="color: rgb(0\, 0\, 0)\; font-size: medium\; line-height: normal\;">to register today!</font>
LOCATION:Montrose Harbor
UID:e.1819.279
SEQUENCE:3
DTSTAMP:20260424T095732Z
URL:https://members.lakeviewroscoevillage.org/events/details/be-healthy-for-good-wellness-event-walk-05-18-2014-279
END:VEVENT

END:VCALENDAR
