BEGIN:VCALENDAR
VERSION:2.0
PRODID:-//ChamberMaster//Event Calendar 2.0//EN
METHOD:PUBLISH
X-PUBLISHED-TTL:P3D
REFRESH-INTERVAL:P3D
CALSCALE:GREGORIAN
BEGIN:VEVENT
DTSTART:20140222T180000Z
DTEND:20140223T040000Z
X-MICROSOFT-CDO-ALLDAYEVENT:FALSE
SUMMARY:BeadQuest
DESCRIPTION:BeadQuest 2014 is Festa's 6th Annual Bead-Collecting Mardi Gras Pub Crawl\, taking place on Saturday\, February 22\, 2014.  BeadQuest is Chicago's Premiere Mardi Gras Party\, where YOU need to be!\n\n\n\nVisit our Facebook Page HERE to get a Valuable Discount Coupon! If you can't access it\, just Email Us and We'll give it to you! If you went to TBOX 2013 and bought your ticket before Thanksgiving\, Email Us for Your Free Ticket Code! If you went to TBOX afterwards\, email us for an even bigger discount code! TBOX Souvenir 22-oz Green/Purple Mug for first 3\,000\, and Souvenir "I HEART TBOX" T-Shirt for first 2\,000 people that also went to TBOX!\n\n	The 6th Annual BeadQuest\, from the producers of the World-Famous TBOX Twelve Bars of Xmas Pub Crawl\, will begin at Murphy's Bleachers between Noon and 1:30pm\, located at Sheffield & Waveland\, across from the Wrigley Field Bleachers.\n\n	At Murphy's\, our Illustrious Crew will begin distributing Beads to the Crowd\, along with our Awesome\, Ice-Breaking\, "I AM SINGLE" and "LET'S MAKE OUT" and "BEAD ME" stickers.\n\n	\n\n	Murphy's Bleachers will also be the location of our Customer Service Desk\, from Noon until 8pm. You can pick up your BeadQuest Badge & Lanyard\, plus Souvenir Green & Purple Mug the Day-Of\, or at the Festa Parties Office Wed-Thu-Fri Feb 21-22-23 - Click Here for Details!
X-ALT-DESC;FMTTYPE=text/html:BeadQuest 2014 is Festa&#39\;s 6th Annual Bead-Collecting Mardi Gras Pub Crawl\, taking place on Saturday\, February 22\, 2014.&nbsp\; BeadQuest is Chicago&#39\;s Premiere Mardi Gras Party\, where YOU need to be!<br />\n<br />\n<a href="http://www.facebook.com/festaparties" target="_blank"><span style="color: rgb(255\, 0\, 0)\;"><span style="background-color: rgb(255\, 255\, 0)\;">Visit our Facebook Page HERE to get a Valuable Discount Coupon!</span></span></a> If you can&#39\;t access it\, just <a href="mailto:sales@festaparties.com?subject=BeadQuest%202014%20Request">Email Us</a> and We&#39\;ll give it to you! If you went to TBOX 2013 and bought your ticket before Thanksgiving\, Email Us for Your Free Ticket Code! If you went to TBOX afterwards\, <a href="mailto:sales@festaparties.com?subject=BeadQuest">email us</a> for an even bigger discount code! TBOX Souvenir 22-oz Green/Purple Mug for first 3\,000\, and Souvenir &quot\;I HEART TBOX&quot\; T-Shirt for first 2\,000 people that also went to TBOX!\n<p>\n	The 6th Annual BeadQuest\, from the producers of the World-Famous TBOX Twelve Bars of Xmas Pub Crawl\, will begin at Murphy&#39\;s Bleachers between Noon and 1:30pm\, located at Sheffield &amp\; Waveland\, across from the Wrigley Field Bleachers.<br />\n	At Murphy&#39\;s\, our Illustrious Crew will begin distributing Beads to the Crowd\, along with our Awesome\, Ice-Breaking\, &quot\;I AM SINGLE&quot\; and &quot\;LET&#39\;S MAKE OUT&quot\; and &quot\;BEAD ME&quot\; stickers.<br />\n	<br />\n	Murphy&#39\;s Bleachers will also be the location of our Customer Service Desk\, from Noon until 8pm. <b>You can pick up your BeadQuest Badge &amp\; Lanyard\, plus Souvenir Green &amp\; Purple Mug the Day-Of\, or at the Festa Parties Office Wed-Thu-Fri Feb 21-22-23 - Click Here for Details!</b></p>\n
LOCATION:Pub Crawl will begin at Murphy's Bleachers between Noon and 1:30pm\, located at Sheffield & Waveland.12pm-1:30pm
UID:e.1819.188
SEQUENCE:3
DTSTAMP:20260424T153048Z
URL:https://members.lakeviewroscoevillage.org/events/details/beadquest-02-22-2014-188
END:VEVENT

END:VCALENDAR
