BEGIN:VCALENDAR
VERSION:2.0
PRODID:-//ChamberMaster//Event Calendar 2.0//EN
METHOD:PUBLISH
X-PUBLISHED-TTL:P3D
REFRESH-INTERVAL:P3D
CALSCALE:GREGORIAN
BEGIN:VEVENT
DTSTART:20140504T153000Z
DTEND:20140504T163000Z
X-MICROSOFT-CDO-ALLDAYEVENT:FALSE
SUMMARY:Beatles Yoga!
DESCRIPTION:
X-ALT-DESC;FMTTYPE=text/html:
LOCATION:Ganesha Yoga 3113 N. Lincoln Ave Chicago\, IL 60657
UID:e.1819.268
SEQUENCE:3
DTSTAMP:20260424T095033Z
URL:https://members.lakeviewroscoevillage.org/events/details/beatles-yoga-05-04-2014-268
END:VEVENT

END:VCALENDAR
