BEGIN:VCALENDAR
VERSION:2.0
PRODID:-//ChamberMaster//Event Calendar 2.0//EN
METHOD:PUBLISH
X-PUBLISHED-TTL:P3D
REFRESH-INTERVAL:P3D
CALSCALE:GREGORIAN
BEGIN:VEVENT
DTSTART:20141014T230000Z
DTEND:20141015T020000Z
X-MICROSOFT-CDO-ALLDAYEVENT:FALSE
SUMMARY:Beer Label Mixed Media *FREE Beer Flight!*
DESCRIPTION:Join us at the beautiful craft beer caf  Beermiscuous (2812 North Lincoln Ave) as we craft layers of beer labels and paint under the expert tutelage of a B&B instructor. These mixed media masterpieces will surely be a conversation piece at home or in the office! Ticket price includes a flight of beer (four\, 4 oz. drafts) plus all paint supplies\, instruction\, aprons and a 16x20 take-home canvas! Also\, we will have beer labels provided\, but feel free to bring your own favorites with you!
X-ALT-DESC;FMTTYPE=text/html:Join us at the beautiful craft beer caf&eacute\; Beermiscuous (2812 North Lincoln Ave) as we craft layers of beer labels and paint under the expert tutelage of a B&amp\;B instructor. These mixed media masterpieces will surely be a conversation piece at home or in the office! Ticket price includes a flight of beer (four\, 4 oz. drafts) plus all paint supplies\, instruction\, aprons and a 16x20 take-home canvas! Also\, we will have beer labels provided\, but feel free to bring your own favorites with you!
LOCATION:Beermiscuous 2812 North Lincoln Ave
UID:e.1819.498
SEQUENCE:3
DTSTAMP:20260424T001929Z
URL:https://members.lakeviewroscoevillage.org/events/details/beer-label-mixed-media-free-beer-flight-10-14-2014-498
END:VEVENT

END:VCALENDAR
