BEGIN:VCALENDAR
VERSION:2.0
PRODID:-//ChamberMaster//Event Calendar 2.0//EN
METHOD:PUBLISH
X-PUBLISHED-TTL:P3D
REFRESH-INTERVAL:P3D
CALSCALE:GREGORIAN
BEGIN:VEVENT
DTSTART:20141205T010000Z
DTEND:20141205T040000Z
X-MICROSOFT-CDO-ALLDAYEVENT:FALSE
SUMMARY:Beermiscuous-Chicago Brewery Map Launch Party
DESCRIPTION:Join us on December 4 as we celebrate the release of the Chicago Brewery Map poster and t-shirt with a special launch party! We'll have free beer tastings from two breweries featured on the map: Atlas Brewing Company\, located just down the block from Beermiscuous\, and Horse Thief Hollow\, a popular brewpub in Chicago's Beverly neighborhood that we're guessing most of you have yet had the privilege to consume.\n\nEveryone who buys a poster or t-shirt at the event will receive a 10% discount on those items. Can't make it on the 4th? Keep an eye on beermiscuous.com/swag as we'll be making the items available for online purchase as well. \n\nA portion of the proceeds from all Chicago Brewery Map sales will be donated to Free Spirit Media\, an organization that provides education\, access and opportunity to over 500 underserved youth in Chicago annually.\n\nCelebrate Chicago beer with us on December 4th!
X-ALT-DESC;FMTTYPE=text/html:<p style="margin: 0px 0px 16px\; padding: 0px\; border: 0px\; outline: 0px\; font-size: 14px\; vertical-align: baseline\; font-family: museo-sans\; line-height: 20px\; background-image: initial\; background-attachment: initial\; background-size: initial\; background-origin: initial\; background-clip: initial\; background-position: initial\; background-repeat: initial\;">Join us on December 4 as we celebrate the release of the Chicago Brewery Map poster and t-shirt with a special launch party! We&rsquo\;ll have free beer tastings from two breweries featured on the map:&nbsp\;<a href="http://www.atlasbeercompany.com/" style="margin: 0px\; padding: 0px\; vertical-align: baseline\; color: rgb(0\, 0\, 0)\; transition: background 0.2s ease-in-out\; -webkit-transition: background 0.2s ease-in-out\; -webkit-tap-highlight-color: rgb(255\, 94\, 153)\; background: transparent\;" target="_blank">Atlas Brewing Company</a>\, located just down the block from Beermiscuous\, and&nbsp\;<a href="http://www.horsethiefbrewing.com/" style="margin: 0px\; padding: 0px\; vertical-align: baseline\; color: rgb(0\, 0\, 0)\; transition: background 0.2s ease-in-out\; -webkit-transition: background 0.2s ease-in-out\; -webkit-tap-highlight-color: rgb(255\, 94\, 153)\; background: transparent\;" target="_blank">Horse Thief Hollow</a>\, a popular brewpub in Chicago&rsquo\;s Beverly neighborhood that we&rsquo\;re guessing most of you have yet had the privilege to consume.</p>\n\n<p style="margin: 0px 0px 16px\; padding: 0px\; border: 0px\; outline: 0px\; font-size: 14px\; vertical-align: baseline\; font-family: museo-sans\; line-height: 20px\; background-image: initial\; background-attachment: initial\; background-size: initial\; background-origin: initial\; background-clip: initial\; background-position: initial\; background-repeat: initial\;">Everyone who buys a poster or t-shirt at the event will receive a 10% discount on those items. Can&rsquo\;t make it on the 4th? Keep an eye on&nbsp\;<a href="http://www.beermiscuous.com/swag" style="margin: 0px\; padding: 0px\; vertical-align: baseline\; color: rgb(0\, 0\, 0)\; transition: background 0.2s ease-in-out\; -webkit-transition: background 0.2s ease-in-out\; -webkit-tap-highlight-color: rgb(255\, 94\, 153)\; background: transparent\;">beermiscuous.com/swag</a>&nbsp\;as we&rsquo\;ll be making the items available for online purchase as well.&nbsp\;</p>\n\n<p style="margin: 0px 0px 16px\; padding: 0px\; border: 0px\; outline: 0px\; font-size: 14px\; vertical-align: baseline\; font-family: museo-sans\; line-height: 20px\; background-image: initial\; background-attachment: initial\; background-size: initial\; background-origin: initial\; background-clip: initial\; background-position: initial\; background-repeat: initial\;">A portion of the proceeds from all Chicago Brewery Map sales will be donated to&nbsp\;<a href="http://www.freespiritmedia.org/" style="margin: 0px\; padding: 0px\; vertical-align: baseline\; color: rgb(0\, 0\, 0)\; transition: background 0.2s ease-in-out\; -webkit-transition: background 0.2s ease-in-out\; -webkit-tap-highlight-color: rgb(255\, 94\, 153)\; background: transparent\;" target="_blank">Free Spirit Media</a>\, an organization that provides education\, access and opportunity to over 500 underserved youth in Chicago annually.</p>\n\n<p style="margin: 0px 0px 16px\; padding: 0px\; border: 0px\; outline: 0px\; font-size: 14px\; vertical-align: baseline\; font-family: museo-sans\; line-height: 20px\; background-image: initial\; background-attachment: initial\; background-size: initial\; background-origin: initial\; background-clip: initial\; background-position: initial\; background-repeat: initial\;">Celebrate Chicago beer with us on December 4th!</p>\n
LOCATION:Beermiscuous 2812 N Lincoln Ave Chicago\, IL 60657
UID:e.1819.1323
SEQUENCE:3
DTSTAMP:20260423T185720Z
URL:https://members.lakeviewroscoevillage.org/events/details/beermiscuous-chicago-brewery-map-launch-party-12-04-2014-1323
END:VEVENT

END:VCALENDAR
