BEGIN:VCALENDAR
VERSION:2.0
PRODID:-//ChamberMaster//Event Calendar 2.0//EN
METHOD:PUBLISH
X-PUBLISHED-TTL:P3D
REFRESH-INTERVAL:P3D
CALSCALE:GREGORIAN
BEGIN:VEVENT
DTSTART:20170213T230000Z
DTEND:20170214T030000Z
X-MICROSOFT-CDO-ALLDAYEVENT:FALSE
SUMMARY:Belmont Theater District Open House Tour
DESCRIPTION:Celebrate Chicago Theatre Week with the Belmont Theater District! Enjoy entry to all participating theaters\, drink deals\, show excerpts\, backstage tours\, and more! For more information\, visit BTDChicago.com.
X-ALT-DESC;FMTTYPE=text/html:Celebrate Chicago Theatre Week with the <a href="http://www.BTDChicago.com">Belmont Theater District</a>! Enjoy entry to all participating theaters\, drink deals\, show excerpts\, backstage tours\, and more! For more information\, visit <a href="http://www.BTDChicago.com" target="_blank">BTDChicago.com</a>.
LOCATION:
UID:e.1819.4915
SEQUENCE:3
DTSTAMP:20260420T032007Z
URL:https://members.lakeviewroscoevillage.org/events/details/belmont-theater-district-open-house-tour-02-13-2017-4915
END:VEVENT

END:VCALENDAR
