BEGIN:VCALENDAR
VERSION:2.0
PRODID:-//ChamberMaster//Event Calendar 2.0//EN
METHOD:PUBLISH
X-PUBLISHED-TTL:P3D
REFRESH-INTERVAL:P3D
CALSCALE:GREGORIAN
BEGIN:VEVENT
DTSTART:20131029T230000Z
DTEND:20131030T010000Z
X-MICROSOFT-CDO-ALLDAYEVENT:FALSE
SUMMARY:Belmont Theater District Partner Networking Event
DESCRIPTION:Belmont Theater District is a new initiative spearheaded by the Lakeview and Lakeview East Chambers of Commerce\, live theaters and local businesses designed to attract and increase resident and visitor traffic to the Lakeview area.\n\n\n\nThe BTD is currently looking for theater and business Partners to feature in an integrated marketing program\, incorporating web\, print\, concierge desks\, street signage and social media.\n\n\n\nTo find out more about the Belmont Theater District's plans and marketing initiatives and what it means for YOUR Lakeview business\, JOIN US at a BTD Partner Networking Event.
X-ALT-DESC;FMTTYPE=text/html:<strong><span style="border:none windowtext 1.0pt\;padding:0in\;"><span style="color:black\;"><span style="font-family:segoe ui\,sans-serif\;"><span style="font-size:10.5pt\;">Belmont Theater District</span></span></span></span></strong><span style="background:#FFFFCC\;"><span style="color:black\;"><span style="font-family:segoe ui\,sans-serif\;"><span style="font-size:10.5pt\;"><span style="background-color:#ffffff\;">&nbsp\;is a new initiative spearheaded by the Lakeview and Lakeview East Chambers of Commerce\, live theaters and local businesses designed to attract and increase resident and visitor traffic to the Lakeview area.</span></span></span></span></span><br />\n<br />\n<span style="color:black\;"><span style="font-family:segoe ui\,sans-serif\;"><span style="font-size:10.5pt\;">The BTD is currently looking for theater and business Partners to feature in an integrated marketing program\, incorporating web\, print\, concierge desks\, street signage and social media.<br />\n<br />\nTo find out more about the Belmont Theater District&#39\;s plans and marketing initiatives and what it means for YOUR Lakeview business\, JOIN US at a BTD Partner Networking Event.</span></span></span><br />\n
LOCATION:Stage 773 1225 W. Belmont Ave Chicago\, IL 60657
UID:e.1819.107
SEQUENCE:3
DTSTAMP:20260424T224309Z
URL:https://members.lakeviewroscoevillage.org/events/details/belmont-theater-district-partner-networking-event-10-29-2013-107
END:VEVENT

END:VCALENDAR
