BEGIN:VCALENDAR
VERSION:2.0
PRODID:-//ChamberMaster//Event Calendar 2.0//EN
METHOD:PUBLISH
X-PUBLISHED-TTL:P3D
REFRESH-INTERVAL:P3D
CALSCALE:GREGORIAN
BEGIN:VEVENT
DTSTART:20170113T004500Z
DTEND:20170113T040000Z
X-MICROSOFT-CDO-ALLDAYEVENT:FALSE
SUMMARY:Belmont Theater District Theater Night
DESCRIPTION:The Belmont Theater District invites you to its January Theater Night\, featuring TimeLine Theatre's A DISAPPEARING NUMBER.\n\n\n\nIn 1913\, a clerk in rural India sends a letter to famed mathematician GH Hardy\, filled with astonishing mathematical theorems. In the present\, a math professor and a businessman fall in love. Told in a whirlwind of vignettes spanning history and time\, 'A Disappearing Number' is a love letter to numbers\, blending the beauty of everyday relationships with the mysticism of the cosmos. The evening is for a Preview show\, and includes a pre-show reception and chat with TimeLine artists with free wine & tasty snacks from Venicci Pizza.\n\n\n\nBook your tickets here\, with discount code: BTDTN. Additional ticket system fees apply on all credit card orders. For more information\, visit BTDChicago.com.
X-ALT-DESC;FMTTYPE=text/html:The Belmont Theater District invites you to its January Theater Night\, featuring&nbsp\;TimeLine Theatre&rsquo\;s A DISAPPEARING NUMBER.<br />\n<br />\nIn 1913\, a clerk in rural India sends a letter to famed mathematician GH Hardy\, filled with astonishing mathematical theorems. In the present\, a math professor and a businessman fall in love. Told in a whirlwind of vignettes spanning history and time\, &lsquo\;A Disappearing Number&rsquo\; is a love letter to numbers\, blending the beauty of everyday relationships with the mysticism of the cosmos. The evening is for a Preview show\, and includes a pre-show reception and chat with TimeLine artists with free wine &amp\; tasty snacks from Venicci Pizza.<br />\n<br />\n<a href="https://timelinetheatre.secure.force.com/ticket/#sections_a0Fo000000Uvr7GEAR" target="_blank">Book your tickets here</a>\, with discount code: BTDTN. Additional ticket system fees apply on all credit card orders. For more information\, visit <a href="http://www.BTDChicago.com" target="_blank">BTDChicago.com</a>.
LOCATION:
UID:e.1819.4916
SEQUENCE:3
DTSTAMP:20260420T045936Z
URL:https://members.lakeviewroscoevillage.org/events/details/belmont-theater-district-theater-night-01-12-2017-4916
END:VEVENT

END:VCALENDAR
