BEGIN:VCALENDAR
VERSION:2.0
PRODID:-//ChamberMaster//Event Calendar 2.0//EN
METHOD:PUBLISH
X-PUBLISHED-TTL:P3D
REFRESH-INTERVAL:P3D
CALSCALE:GREGORIAN
BEGIN:VEVENT
DTSTART:20170129T040000Z
DTEND:20170129T063000Z
X-MICROSOFT-CDO-ALLDAYEVENT:FALSE
SUMMARY:Belmont Theater District Theater Night
DESCRIPTION:The Belmont Theater District invites you to its January Theater Night\, featuring VAUDEZILLA BURLESQUE CABARET.\n\n\n\nJoin us for Chicago's top rated\, one-of-a-kind burlesque show\, with a chance to chat with the artists after the show   and Stage 773's can't-be-beat drinks specials: $8 PBR + Jameson\, "Master of Buckets" 5 beers for the price of 4\, and more on-the-night specials!\n\n\n\nFree entry for the first ten RSVPs\; discounted $10 tickets for remaining RSVPs. Book your tickets via email here\, being sure to include your name and # of tickets you would like. For more information\, visit BTDChicago.com.
X-ALT-DESC;FMTTYPE=text/html:The Belmont Theater District invites you to its January Theater Night\, featuring VAUDEZILLA BURLESQUE CABARET.<br />\n<br />\nJoin us for Chicago&rsquo\;s top rated\, one-of-a-kind burlesque show\, with a chance to chat with the artists after the show &mdash\; and Stage 773&rsquo\;s can&rsquo\;t-be-beat drinks specials: $8 PBR + Jameson\, &ldquo\;Master of Buckets&rdquo\; 5 beers for the price of 4\, and more on-the-night specials!<br />\n<br />\nFree entry for the first ten RSVPs\; discounted $10 tickets for remaining RSVPs. Book your tickets via email <a href="mailto:amsensay@gmail.com">here</a>\, being sure to include your name and # of tickets you would like. For more information\, visit <a href="http://www.BTDChicago.com" target="_blank">BTDChicago.com</a>.
LOCATION:
UID:e.1819.4917
SEQUENCE:3
DTSTAMP:20260420T045936Z
URL:https://members.lakeviewroscoevillage.org/events/details/belmont-theater-district-theater-night-01-28-2017-4917
END:VEVENT

END:VCALENDAR
