BEGIN:VCALENDAR
VERSION:2.0
PRODID:-//ChamberMaster//Event Calendar 2.0//EN
METHOD:PUBLISH
X-PUBLISHED-TTL:P3D
REFRESH-INTERVAL:P3D
CALSCALE:GREGORIAN
BEGIN:VEVENT
DTSTART:20160818T230000Z
DTEND:20160819T010000Z
X-MICROSOFT-CDO-ALLDAYEVENT:FALSE
SUMMARY:Benefit Cosmetics Back to School Beauty Bash
DESCRIPTION:Get fresh makeup for back to school! Learn age appropriate tips & tricks for making makeup look natural & flawless. RSVP to this event and enjoy a free Brow Wax! Each guest will also receive a one-on-one make-upper with a Beauty Artist! Enjoy a free gift with a qualifying retail purchase of items. RSVP today and enjoy some drinks & some light snacks during your visit!
X-ALT-DESC;FMTTYPE=text/html:Get fresh makeup for back to school! Learn age appropriate tips &amp\; tricks for making makeup look natural &amp\; flawless. RSVP to this event and enjoy a free Brow Wax! Each guest will also receive a one-on-one make-upper with a Beauty Artist! Enjoy a free gift with a qualifying retail purchase of items. RSVP today and enjoy some drinks &amp\; some light snacks during your visit!
LOCATION:Benefit Cosmetics 3450 N Southport Ave
UID:e.1819.3539
SEQUENCE:3
DTSTAMP:20260422T062205Z
URL:https://members.lakeviewroscoevillage.org/events/details/benefit-cosmetics-back-to-school-beauty-bash-08-18-2016-3539
END:VEVENT

END:VCALENDAR
