BEGIN:VCALENDAR
VERSION:2.0
PRODID:-//ChamberMaster//Event Calendar 2.0//EN
METHOD:PUBLISH
X-PUBLISHED-TTL:P3D
REFRESH-INTERVAL:P3D
CALSCALE:GREGORIAN
BEGIN:VEVENT
DTSTART:20150517T150000Z
DTEND:20150517T170000Z
X-MICROSOFT-CDO-ALLDAYEVENT:FALSE
SUMMARY:Bike Lake View: May 17 Neighborhood Ride for Wellness
DESCRIPTION:Join the Lake View Citizens Council (LVCC) and your neighbors for a leisurely Sunday morning bike ride around Lake View\, ending in Lakeview East at the Check-In to Wellness event hosted by the Lakeview East Chamber of Commerce and sponsored by Walgreens. This event is bringing residents together with local businesses to promote healthy products and services in the community and overall wellness. Activities include restaurant food and drink samples\, free fitness classes\, table demos and a raffle for participants.\n\n\n\nBike Lake View is a free hour-long neighborhood social ride geared toward all of our neighbors -- bring your kids and your grandparents and explore our bicycle-friendly neighborhood! Visit the LVCC website (www.lakeviewcitizens.org) to get involved in your neighborhood.\n\n\n\nHelmets are required and be sure to bring a lock so you can stick around after riding.
X-ALT-DESC;FMTTYPE=text/html:<span style="color: rgb(34\, 34\, 34)\; font-family: arial\, sans-serif\; font-size: 12.8000001907349px\; line-height: normal\;">Join the Lake View Citizens Council (LVCC) and your neighbors for a leisurely Sunday morning bike ride around Lake View\, ending in Lakeview East at the Check-In to Wellness event hosted by the Lakeview East Chamber of Commerce and sponsored by Walgreens. This event is bringing residents together with local businesses to promote healthy products and services in the community and overall wellness. Activities include restaurant food and drink samples\, free fitness classes\, table demos and a raffle for participants.</span><br style="color: rgb(34\, 34\, 34)\; font-family: arial\, sans-serif\; font-size: 12.8000001907349px\; line-height: normal\;" />\n<br style="color: rgb(34\, 34\, 34)\; font-family: arial\, sans-serif\; font-size: 12.8000001907349px\; line-height: normal\;" />\n<span style="color: rgb(34\, 34\, 34)\; font-family: arial\, sans-serif\; font-size: 12.8000001907349px\; line-height: normal\;">Bike Lake View is a free hour-long neighborhood social ride geared toward all of our neighbors -- bring your kids and your grandparents and explore our bicycle-friendly neighborhood! </span><span style="color: rgb(34\, 34\, 34)\; font-family: arial\, sans-serif\; font-size: 12.8000001907349px\; line-height: normal\;">Visit the LVCC website (</span><a href="http://www.lakeviewcitizens.org/" style="color: rgb(17\, 85\, 204)\; font-family: arial\, sans-serif\; font-size: 12.8000001907349px\; line-height: normal\;" target="_blank">www.lakeviewcitizens.org</a><span style="color: rgb(34\, 34\, 34)\; font-family: arial\, sans-serif\; font-size: 12.8000001907349px\; line-height: normal\;">) to get involved in your neighborhood.</span><br style="color: rgb(34\, 34\, 34)\; font-family: arial\, sans-serif\; font-size: 12.8000001907349px\; line-height: normal\;" />\n<br style="color: rgb(34\, 34\, 34)\; font-family: arial\, sans-serif\; font-size: 12.8000001907349px\; line-height: normal\;" />\n<i style="color: rgb(34\, 34\, 34)\; font-family: arial\, sans-serif\; font-size: 12.8000001907349px\; line-height: normal\;">Helmets are required and be sure to bring a lock so you can stick around after riding.</i>
LOCATION:Where: Meet at Hawthorne School (School Street and Clifton Street on the School Street side) Post-ride: Ending around 11:00 a.m. at the People Spot at 2863 N. Clark St. for social time and Lakeview East's Check-In to Wellness event
UID:e.1819.1556
SEQUENCE:3
DTSTAMP:20260423T094217Z
URL:https://members.lakeviewroscoevillage.org/events/details/bike-lake-view-may-17-neighborhood-ride-for-wellness-05-17-2015-1556
END:VEVENT

END:VCALENDAR
