BEGIN:VCALENDAR
VERSION:2.0
PRODID:-//ChamberMaster//Event Calendar 2.0//EN
METHOD:PUBLISH
X-PUBLISHED-TTL:P3D
REFRESH-INTERVAL:P3D
CALSCALE:GREGORIAN
BEGIN:VEVENT
DTSTART:20150913T150000Z
DTEND:20150913T170000Z
X-MICROSOFT-CDO-ALLDAYEVENT:FALSE
SUMMARY:Bike Lake View: Monthly Neighborhood Ride
DESCRIPTION:Join the Lake View Citizens Council (LVCC) and your neighbors for a leisurely Sunday morning bike ride around bike-friendly Lake View!\n\n \n\nBike Lake View is a free hour-long neighborhood social ride geared toward all of our neighbors -- bring your kids and your grandparents and explore our bicycle-friendly neighborhood! Each ride ends with social time either at a neighborhood cafe or outside. Visit the LVCC website (www.lakeviewcitizens.org) to get involved in your neighborhood.\n\n\n\nHelmets are required and be sure to bring a lock so you can stick around after riding.
X-ALT-DESC;FMTTYPE=text/html:<span style="color: rgb(34\, 34\, 34)\; font-family: arial\, sans-serif\; font-size: 12.8000001907349px\; line-height: normal\;">Join the Lake View Citizens Council (LVCC) and your neighbors for a leisurely Sunday morning bike ride around bike-friendly Lake View!<br />\n&nbsp\;</span><br style="color: rgb(34\, 34\, 34)\; font-family: arial\, sans-serif\; font-size: 12.8000001907349px\; line-height: normal\;" />\n<span style="color: rgb(34\, 34\, 34)\; font-family: arial\, sans-serif\; font-size: 12.8000001907349px\; line-height: normal\;">Bike Lake View is a free hour-long neighborhood social ride geared toward all of our neighbors -- bring your kids and your grandparents and explore our bicycle-friendly neighborhood! Each ride </span><span style="color: rgb(34\, 34\, 34)\; font-family: arial\, sans-serif\; font-size: 12.8000001907349px\; line-height: normal\;">ends with social time either at a neighborhood cafe or outside.&nbsp\;</span><span style="color: rgb(34\, 34\, 34)\; font-family: arial\, sans-serif\; font-size: 12.8000001907349px\; line-height: normal\;">Visit</span><span style="color: rgb(34\, 34\, 34)\; font-family: arial\, sans-serif\; font-size: 12.8000001907349px\; line-height: normal\;"> the LVCC website (</span><a href="http://www.lakeviewcitizens.org/" style="color: rgb(17\, 85\, 204)\; font-family: arial\, sans-serif\; font-size: 12.8000001907349px\; line-height: normal\;" target="_blank">www.lakeviewcitizens.org</a><span style="color: rgb(34\, 34\, 34)\; font-family: arial\, sans-serif\; font-size: 12.8000001907349px\; line-height: normal\;">) to get involved in your neighborhood.</span><br style="color: rgb(34\, 34\, 34)\; font-family: arial\, sans-serif\; font-size: 12.8000001907349px\; line-height: normal\;" />\n<br style="color: rgb(34\, 34\, 34)\; font-family: arial\, sans-serif\; font-size: 12.8000001907349px\; line-height: normal\;" />\n<i style="color: rgb(34\, 34\, 34)\; font-family: arial\, sans-serif\; font-size: 12.8000001907349px\; line-height: normal\;">Helmets are required and be sure to bring a lock so you can stick around after riding.</i>
LOCATION:Where: Meet at Hawthorne School (School Street and Clifton Street on the School Street side) Post-ride: Ending around 11:00 a.m. for social time at a neighborhood cafe or outside
UID:e.1819.1560
SEQUENCE:3
DTSTAMP:20260423T041256Z
URL:https://members.lakeviewroscoevillage.org/events/details/bike-lake-view-monthly-neighborhood-ride-09-13-2015-1560
END:VEVENT

END:VCALENDAR
