BEGIN:VCALENDAR
VERSION:2.0
PRODID:-//ChamberMaster//Event Calendar 2.0//EN
METHOD:PUBLISH
X-PUBLISHED-TTL:P3D
REFRESH-INTERVAL:P3D
CALSCALE:GREGORIAN
BEGIN:VEVENT
DTSTART:20170204T230000Z
DTEND:20170205T030000Z
X-MICROSOFT-CDO-ALLDAYEVENT:FALSE
SUMMARY:Bitter Pops Presents: Odell Brewing Chicago Launch Party
DESCRIPTION:Bitter Pops\, Lakeview's newest craft beer\, wine\, and spirit bottle shop and tasting room\, announces plans to partner with Odell Brewing Company for their debut in the Windy City. As the first location in the city with the coveted Fort Collins brewery on tap\, the event marks the first opportunity for Chicago drinkers to sample one of Colorado's most popular breweries.\n \n\nKicking off at 5 PM on Saturday\, February 4th at Bitter Pops (3345 N. Lincoln Ave)\, the event will feature the full lineup of Odell beers available in Chicago\, available on tap and to-go where available. As always at Bitter Pops\, all beers are available in 16oz drafts or 5oz samples\, also available in flights of four. The full list of featured drafts is as follows:\n\n \n\n\n	\n	90 Shilling Ale\n	\n	\n	Odell IPA\n	\n	\n	Drumroll APA\n	\n	\n	Dark Theory\n	\n	\n	Cutthroat Porter (Nitro)\n	\n	\n	Myrcenary Double IPA\n	\n	\n	Crossover Sour Blonde
X-ALT-DESC;FMTTYPE=text/html:<p dir="ltr" style="color: rgb(34\, 34\, 34)\; font-family: arial\, sans-serif\; font-size: 12.8px\; background-color: rgb(255\, 255\, 255)\; line-height: 1.38\; margin-top: 0pt\; margin-bottom: 0pt\;"><span style="font-family: arial\; vertical-align: baseline\; white-space: pre-wrap\;">Bitter Pops\, Lakeview&#39\;s newest craft beer\, wine\, and spirit bottle shop and tasting room\, announces plans to partner with Odell Brewing Company for their debut in the Windy City. As the first location in the city with the coveted Fort Collins brewery on tap\, the event marks the first opportunity for Chicago drinkers to sample one of Colorado&#39\;s most popular breweries.</span></p>\n&nbsp\;\n\n<p dir="ltr" style="color: rgb(34\, 34\, 34)\; font-family: arial\, sans-serif\; font-size: 12.8px\; background-color: rgb(255\, 255\, 255)\; line-height: 1.38\; margin-top: 0pt\; margin-bottom: 0pt\;"><span style="font-family: arial\; vertical-align: baseline\; white-space: pre-wrap\;">Kicking off at <span class="aBn" data-term="goog_582502728" style="border-bottom: 1px dashed rgb(204\, 204\, 204)\; position: relative\; top: -2px\; z-index: 0\;" tabindex="0"><span class="aQJ" style="position: relative\; top: 2px\; z-index: -1\;">5 PM</span></span> on <span class="aBn" data-term="goog_582502729" style="border-bottom: 1px dashed rgb(204\, 204\, 204)\; position: relative\; top: -2px\; z-index: 0\;" tabindex="0"><span class="aQJ" style="position: relative\; top: 2px\; z-index: -1\;">Saturday\, February 4th</span></span> at Bitter Pops (3345 N. Lincoln Ave)\, the event will feature the full lineup of Odell beers available in Chicago\, available on tap and to-go where available. As always at Bitter Pops\, all beers are available in 16oz drafts or 5oz samples\, also available in flights of four. The full list of featured drafts is as follows:</span><br />\n&nbsp\;</p>\n\n<ul style="color: rgb(34\, 34\, 34)\; font-family: arial\, sans-serif\; font-size: 12.8px\; background-color: rgb(255\, 255\, 255)\; margin-top: 0pt\; margin-bottom: 0pt\;">\n	<li dir="ltr" style="margin-left: 15px\; list-style-type: disc\; font-family: arial\; vertical-align: baseline\;">\n	<p dir="ltr" style="line-height: 1.38\; margin-top: 0pt\; margin-bottom: 0pt\;"><span style="vertical-align: baseline\; white-space: pre-wrap\;">90 Shilling Ale</span></p>\n	</li>\n	<li dir="ltr" style="margin-left: 15px\; list-style-type: disc\; font-family: arial\; vertical-align: baseline\;">\n	<p dir="ltr" style="line-height: 1.38\; margin-top: 0pt\; margin-bottom: 0pt\;"><span style="vertical-align: baseline\; white-space: pre-wrap\;">Odell IPA</span></p>\n	</li>\n	<li dir="ltr" style="margin-left: 15px\; list-style-type: disc\; font-family: arial\; vertical-align: baseline\;">\n	<p dir="ltr" style="line-height: 1.38\; margin-top: 0pt\; margin-bottom: 0pt\;"><span style="vertical-align: baseline\; white-space: pre-wrap\;">Drumroll APA</span></p>\n	</li>\n	<li dir="ltr" style="margin-left: 15px\; list-style-type: disc\; font-family: arial\; vertical-align: baseline\;">\n	<p dir="ltr" style="line-height: 1.38\; margin-top: 0pt\; margin-bottom: 0pt\;"><span style="vertical-align: baseline\; white-space: pre-wrap\;">Dark Theory</span></p>\n	</li>\n	<li dir="ltr" style="margin-left: 15px\; list-style-type: disc\; font-family: arial\; vertical-align: baseline\;">\n	<p dir="ltr" style="line-height: 1.38\; margin-top: 0pt\; margin-bottom: 0pt\;"><span style="vertical-align: baseline\; white-space: pre-wrap\;">Cutthroat Porter (Nitro)</span></p>\n	</li>\n	<li dir="ltr" style="margin-left: 15px\; list-style-type: disc\; font-family: arial\; vertical-align: baseline\;">\n	<p dir="ltr" style="line-height: 1.38\; margin-top: 0pt\; margin-bottom: 0pt\;"><span style="vertical-align: baseline\; white-space: pre-wrap\;">Myrcenary Double IPA</span></p>\n	</li>\n	<li dir="ltr" style="margin-left: 15px\; list-style-type: disc\; font-family: arial\; vertical-align: baseline\;">\n	<p dir="ltr" style="line-height: 1.38\; margin-top: 0pt\; margin-bottom: 0pt\;"><span style="vertical-align: baseline\; white-space: pre-wrap\;">Crossover Sour Blonde</span></p>\n	</li>\n</ul>\n
LOCATION:3345 N. Lincoln Ave. Suite 102 Chicago IL\, 60657
UID:e.1819.4924
SEQUENCE:3
DTSTAMP:20260420T013740Z
URL:https://members.lakeviewroscoevillage.org/events/details/bitter-pops-presents-odell-brewing-chicago-launch-party-02-04-2017-4924
END:VEVENT

END:VCALENDAR
