BEGIN:VCALENDAR
VERSION:2.0
PRODID:-//ChamberMaster//Event Calendar 2.0//EN
METHOD:PUBLISH
X-PUBLISHED-TTL:P3D
REFRESH-INTERVAL:P3D
CALSCALE:GREGORIAN
BEGIN:VEVENT
DTSTART:20140213T000000Z
DTEND:20140213T023000Z
X-MICROSOFT-CDO-ALLDAYEVENT:FALSE
SUMMARY:Black Arts Expo
DESCRIPTION:Black Arts Expo \n\n	Wednesday February 12\, 6:30PM\n\n	Loyola University Chicago's Black Cultural Center\n\n	Damen Student Center\, MPR North\n\n	6511 N. Sheridan Rd Chicago\, IL\n\n	\n\n	Join Loyola as students showcase poetry and a documentary in honor of Black History Month!
X-ALT-DESC;FMTTYPE=text/html:<p style="margin: 0in 0in 6pt\; line-height: 120%\;">\n	<strong><span style="color: black\; line-height: 120%\; font-family: &quot\;Calibri&quot\;\,&quot\;sans-serif&quot\;\; font-size: 11pt\;">Black Arts Expo </span></strong><br />\n	<span style="color: black\; line-height: 120%\; font-family: &quot\;Calibri&quot\;\,&quot\;sans-serif&quot\;\; font-size: 11pt\;">Wednesday February 12\, 6:30PM<br />\n	Loyola University Chicago&rsquo\;s Black Cultural Center<br />\n	Damen Student Center\, MPR North<br />\n	6511 N. Sheridan Rd Chicago\, IL<br />\n	<br />\n	Join Loyola as students showcase poetry and a documentary in honor of Black History Month!<o:p></o:p></span></p>\n
LOCATION:Loyola University Chicago's Black Cultural Center Damen Student Center\, MPR North 6511 N. Sheridan Rd Chicago\, IL
UID:e.1819.204
SEQUENCE:3
DTSTAMP:20260424T153337Z
URL:https://members.lakeviewroscoevillage.org/events/details/black-arts-expo-02-12-2014-204
END:VEVENT

END:VCALENDAR
