BEGIN:VCALENDAR
VERSION:2.0
PRODID:-//ChamberMaster//Event Calendar 2.0//EN
METHOD:PUBLISH
X-PUBLISHED-TTL:P3D
REFRESH-INTERVAL:P3D
CALSCALE:GREGORIAN
BEGIN:VEVENT
DTSTART;VALUE=DATE:20171124
DTEND;VALUE=DATE:20171125
TRANSP:TRANSPARENT
X-MICROSOFT-CDO-ALLDAYEVENT:TRUE
SUMMARY:Black Friday Sale at Mike & Yoli At Home
DESCRIPTION:Black Friday Sale -- 30-50% off the whole store except consignment and artist pieces. \n\n\n\nLocated at 3066 N. Lincoln Avenue\, right next to the Starbucks\, Mike and YoLi are taking Lakeview by storm. Whether it be for our weekly paint parties\, some retail shopping\, or just plain ole' good cheer\, we welcome you to stop on by and say hello. We're open from 11am-6pm Tuesdays- Sundays. Follow us on Twitter @MikeandYoLi\, Instagram @mikeandyoli\, and Facebook @MikeandYoLi.
X-ALT-DESC;FMTTYPE=text/html:<span style="color: rgb(0\, 0\, 0)\; font-family: Georgia\, &quot\;Times New Roman&quot\;\, Times\, serif\; font-size: 12.8px\;">&nbsp\;Black&nbsp\;</span><span class="aBn" data-term="goog_1390172907" style="border-bottom: 1px dashed rgb(204\, 204\, 204)\; position: relative\; top: -2px\; z-index: 0\; color: rgb(0\, 0\, 0)\; font-family: Georgia\, &quot\;Times New Roman&quot\;\, Times\, serif\; font-size: 12.8px\;" tabindex="0"><span class="aQJ" style="position: relative\; top: 2px\; z-index: -1\;">Friday</span></span><span style="color: rgb(0\, 0\, 0)\; font-family: Georgia\, &quot\;Times New Roman&quot\;\, Times\, serif\; font-size: 12.8px\;">&nbsp\;Sale -- 30-50% off the whole store except consignment and artist pieces.&nbsp\;</span><br />\n<br />\n<span style="color: rgb(0\, 0\, 0)\; font-size: 12.8px\; font-family: Georgia\, &quot\;Times New Roman&quot\;\, Times\, serif\;"><span class="m_54655041448021121gmail-il">Located</span>&nbsp\;at&nbsp\;3066 N. Lincoln Avenue\, right next to the Starbucks\, Mike and YoLi are taking Lakeview by storm. Whether it be for our weekly paint parties\, some retail shopping\, or just plain ole&rsquo\; good cheer\, we welcome you to stop on by and say hello. We&rsquo\;re open from&nbsp\;<span class="m_54655041448021121gmail-aBn"><span class="m_54655041448021121gmail-aQJ"><span class="aBn" data-term="goog_1390172906" style="border-bottom: 1px dashed rgb(204\, 204\, 204)\; position: relative\; top: -2px\; z-index: 0\;" tabindex="0"><span class="aQJ" style="position: relative\; top: 2px\; z-index: -1\;">11am-6pm</span></span></span></span>&nbsp\;Tuesdays- Sundays. Follow us on Twitter&nbsp\;</span><span style="color: rgb(0\, 0\, 0)\; font-family: &quot\;Times New Roman&quot\;\, Times\, serif\; font-size: 12.8px\;">@MikeandYoLi</span><span style="color: rgb(0\, 0\, 0)\; font-size: 12.8px\; font-family: Georgia\, &quot\;Times New Roman&quot\;\, Times\, serif\;">\, Instagram&nbsp\;</span><span style="color: rgb(0\, 0\, 0)\; font-family: &quot\;Times New Roman&quot\;\, Times\, serif\; font-size: 12.8px\;">@mikeandyoli</span><span style="color: rgb(0\, 0\, 0)\; font-size: 12.8px\; font-family: Georgia\, &quot\;Times New Roman&quot\;\, Times\, serif\;">\, and Facebook</span><span style="color: rgb(0\, 0\, 0)\; font-family: &quot\;Times New Roman&quot\;\, Times\, serif\; font-size: 12.8px\;">&nbsp\;@MikeandYoLi</span><span style="color: rgb(0\, 0\, 0)\; font-size: 12.8px\; font-family: Georgia\, &quot\;Times New Roman&quot\;\, Times\, serif\;">.&nbsp\;</span><br />\n&nbsp\;
LOCATION:3066 N. Lincoln Avenue
UID:e.1819.11218
SEQUENCE:3
DTSTAMP:20260419T143125Z
URL:https://members.lakeviewroscoevillage.org/events/details/black-friday-sale-at-mike-yoli-at-home-11-24-2017-11218
END:VEVENT

END:VCALENDAR
