BEGIN:VCALENDAR
VERSION:2.0
PRODID:-//ChamberMaster//Event Calendar 2.0//EN
METHOD:PUBLISH
X-PUBLISHED-TTL:P3D
REFRESH-INTERVAL:P3D
CALSCALE:GREGORIAN
BEGIN:VEVENT
DTSTART;VALUE=DATE:20151022
DTEND;VALUE=DATE:20151023
TRANSP:TRANSPARENT
X-MICROSOFT-CDO-ALLDAYEVENT:TRUE
SUMMARY:Blaine School Walk-A-Thon
DESCRIPTION:Please support Blaine by donating- no amount is too small! Visit www.friendsofblaine.org and make a donation online (at bottom of home page). The Walk-a-thon is an annual Friends of Blaine fundraiser which raises funds to support enrichment for the entire student population.\n\n\n\nFriends of Blaine is a 501 C-3\, not for profit group that was founded in 2003 to support high quality educational and artistic programming for the James G. Blaine Elementary school.  Blaine was constructed in 1893 and is located at 1420 W. Grace in the Lakeview neighborhood.  Blaine is consistently ranked as one of the Chicago's best elementary schools and serves more than 900 K-8th grade students from diverse backgrounds\, most of who live in the Lakeview neighborhood.\n\n \n\nThe following grants are planned for the 2015/2016 school year:\n\n                Lockers for middle school students\n\n                Outside basketball courts\n\n                Class performances led by LookingGlass Theater\, Forward Momentum\, and       \n\n              dancing with Class\n\n                Printing the Blaine Blast newsletter\n\n                We Got Game for sports programming during recess\n\n                And more with fundraising success\n\nPlease see the www.friendsofblaine.org website for more details and learn how to get involved!
X-ALT-DESC;FMTTYPE=text/html:<span style="color: rgb(34\, 34\, 34)\; font-family: arial\, sans-serif\; font-size: small\; line-height: normal\;">Please support Blaine by donating- no amount is too small! Visit www.friendsofblaine.org and make a donation online (at bottom of home page). The Walk-a-thon is an annual Friends of Blaine fundraiser which raises funds to support enrichment for the entire student population.</span><br style="color: rgb(34\, 34\, 34)\; font-family: arial\, sans-serif\; font-size: small\; line-height: normal\;" />\n<br style="color: rgb(34\, 34\, 34)\; font-family: arial\, sans-serif\; font-size: small\; line-height: normal\;" />\n<span style="color: rgb(34\, 34\, 34)\; font-family: arial\, sans-serif\; font-size: small\; line-height: normal\;">Friends of Blaine is a 501 C-3\, not for profit group that was founded in 2003 to support high quality educational and artistic programming for the James G. Blaine Elementary school. &nbsp\;Blaine was constructed in 1893 and is located at 1420 W. Grace in the Lakeview neighborhood. &nbsp\;Blaine is consistently ranked as one of the Chicago&rsquo\;s best elementary schools and serves more than 900 K-8th grade students from diverse backgrounds\, most of who live in the Lakeview neighborhood.</span><br style="color: rgb(34\, 34\, 34)\; font-family: arial\, sans-serif\; font-size: small\; line-height: normal\;" />\n<span style="color: rgb(34\, 34\, 34)\; font-family: arial\, sans-serif\; font-size: small\; line-height: normal\;">&nbsp\;</span><br style="color: rgb(34\, 34\, 34)\; font-family: arial\, sans-serif\; font-size: small\; line-height: normal\;" />\n<span style="color: rgb(34\, 34\, 34)\; font-family: arial\, sans-serif\; font-size: small\; line-height: normal\;">The following grants are planned for the 2015/2016 school year:</span><br style="color: rgb(34\, 34\, 34)\; font-family: arial\, sans-serif\; font-size: small\; line-height: normal\;" />\n<span style="color: rgb(34\, 34\, 34)\; font-family: arial\, sans-serif\; font-size: small\; line-height: normal\;">&bull\; &nbsp\; &nbsp\; &nbsp\; &nbsp\; &nbsp\; &nbsp\; &nbsp\; Lockers for middle school students</span><br style="color: rgb(34\, 34\, 34)\; font-family: arial\, sans-serif\; font-size: small\; line-height: normal\;" />\n<span style="color: rgb(34\, 34\, 34)\; font-family: arial\, sans-serif\; font-size: small\; line-height: normal\;">&bull\; &nbsp\; &nbsp\; &nbsp\; &nbsp\; &nbsp\; &nbsp\; &nbsp\; Outside basketball courts</span><br style="color: rgb(34\, 34\, 34)\; font-family: arial\, sans-serif\; font-size: small\; line-height: normal\;" />\n<span style="color: rgb(34\, 34\, 34)\; font-family: arial\, sans-serif\; font-size: small\; line-height: normal\;">&bull\; &nbsp\; &nbsp\; &nbsp\; &nbsp\; &nbsp\; &nbsp\; &nbsp\; Class performances led by LookingGlass Theater\, Forward Momentum\, and &nbsp\; &nbsp\; &nbsp\;&nbsp\;</span><br style="color: rgb(34\, 34\, 34)\; font-family: arial\, sans-serif\; font-size: small\; line-height: normal\;" />\n<span style="color: rgb(34\, 34\, 34)\; font-family: arial\, sans-serif\; font-size: small\; line-height: normal\;">&nbsp\; &nbsp\; &nbsp\; &nbsp\; &nbsp\; &nbsp\; &nbsp\; dancing with Class</span><br style="color: rgb(34\, 34\, 34)\; font-family: arial\, sans-serif\; font-size: small\; line-height: normal\;" />\n<span style="color: rgb(34\, 34\, 34)\; font-family: arial\, sans-serif\; font-size: small\; line-height: normal\;">&bull\; &nbsp\; &nbsp\; &nbsp\; &nbsp\; &nbsp\; &nbsp\; &nbsp\; Printing the Blaine Blast newsletter</span><br style="color: rgb(34\, 34\, 34)\; font-family: arial\, sans-serif\; font-size: small\; line-height: normal\;" />\n<span style="color: rgb(34\, 34\, 34)\; font-family: arial\, sans-serif\; font-size: small\; line-height: normal\;">&bull\; &nbsp\; &nbsp\; &nbsp\; &nbsp\; &nbsp\; &nbsp\; &nbsp\; We Got Game for sports programming during recess</span><br style="color: rgb(34\, 34\, 34)\; font-family: arial\, sans-serif\; font-size: small\; line-height: normal\;" />\n<span style="color: rgb(34\, 34\, 34)\; font-family: arial\, sans-serif\; font-size: small\; line-height: normal\;">&bull\; &nbsp\; &nbsp\; &nbsp\; &nbsp\; &nbsp\; &nbsp\; &nbsp\; And more with fundraising success</span><br style="color: rgb(34\, 34\, 34)\; font-family: arial\, sans-serif\; font-size: small\; line-height: normal\;" />\n<span style="color: rgb(34\, 34\, 34)\; font-family: arial\, sans-serif\; font-size: small\; line-height: normal\;">Please see the www.friendsofblaine.org website for more details and learn how to get involved!</span>
LOCATION:Blaine Field 1420 W Grace
UID:e.1819.2034
SEQUENCE:3
DTSTAMP:20260423T020648Z
URL:https://members.lakeviewroscoevillage.org/events/details/blaine-school-walk-a-thon-10-22-2015-2034
END:VEVENT

END:VCALENDAR
