BEGIN:VCALENDAR
VERSION:2.0
PRODID:-//ChamberMaster//Event Calendar 2.0//EN
METHOD:PUBLISH
X-PUBLISHED-TTL:P3D
REFRESH-INTERVAL:P3D
CALSCALE:GREGORIAN
BEGIN:VEVENT
DTSTART:20161102T121500Z
DTEND:20161102T134500Z
X-MICROSOFT-CDO-ALLDAYEVENT:FALSE
SUMMARY:BNI - Visitor Day - New group forming around the Lakeview/Lincoln Park border for anyone looking to join a group
DESCRIPTION:Come visit a new BNI networking group that is starting. BNI allows one person per professional category in a non-compete format. This means if there is one CPA\, then that is the only CPA allowed. This is a great way to grow and strengthen your business. It is a heavily referral based networking group. I was in a different chapter for 4.5 years and it really helped to grow my business. This is why I have worked hard to start up this current chapter. Come visit and check us out! Also\, if you have any quesitons feel free to email me at neilh@rlcityres.com or call me at 773-677-3479. Thank you Neil Hackler
X-ALT-DESC;FMTTYPE=text/html:Come visit a new BNI networking group that is starting. BNI allows one person per professional category in a non-compete format. This means if there is one CPA\, then that is the only CPA allowed. This is a great way to grow and strengthen your business. It is a heavily referral based networking group. I was in a different chapter for 4.5 years and it really helped to grow my business. This is why I have worked hard to start up this current chapter. Come visit and check us out! Also\, if you have any quesitons feel free to email me at neilh@rlcityres.com or call me at 773-677-3479. Thank you Neil Hackler
LOCATION:Next Door Cafe located at 659 W. Diversey\, Chicago\, IL
UID:e.1819.4441
SEQUENCE:3
DTSTAMP:20260420T065517Z
URL:https://members.lakeviewroscoevillage.org/events/details/bni-visitor-day-new-group-forming-around-the-lakeview-lincoln-park-border-for-anyone-looking-to-join-a-group-11-02-2016-4441
END:VEVENT

END:VCALENDAR
