BEGIN:VCALENDAR
VERSION:2.0
PRODID:-//ChamberMaster//Event Calendar 2.0//EN
METHOD:PUBLISH
X-PUBLISHED-TTL:P3D
REFRESH-INTERVAL:P3D
CALSCALE:GREGORIAN
BEGIN:VEVENT
DTSTART:20160910T000000Z
DTEND:20160910T033000Z
X-MICROSOFT-CDO-ALLDAYEVENT:FALSE
SUMMARY:BOCCE BALL at BEEF & BARLEY
DESCRIPTION:Bocce Ball is back at Beef & Barley.  As always\, American Bocce Co will be running the show and the gang from New Belgium Brewing will be in house providing you with some exceptional deals on some great beers\n\nThe tournament will consist of 8 teams\, and each team will play a minimum of 2 games.  Teams will be made up of 4 players.  You may register a full 4 player team for $40*\, or may sign up individually for $10*.  Individual players will be randomly assigned to make teams of 4.  *eventbrite fees not included in base ticket cost\n\nPrizes will be awarded to the top 2 finishing teams courtesy of New Belgium Brewing and Beef & Barley.\n\nBOCCE SPECIALS\n\n$4 New Belgium Cans\n\n$15 New Belgium Mix and Match Can Buckets\n\nFRIDAY SPECIALS\n\n$4 Lagunitas Drafts\n\n1/2 price bottles of wine\n\nFriday specials subject to change\n\n \n\nFor a complete list of rules\, or any other questions or concerns\, please email BeefandBarleyChi@gmail.com with BOCCE TOURNAMENT in the subject line.\n\nDON'T FORGET THE GOLDEN RULE:\n\nAny throw made without a drink in hand will be forfeited!\n\nCancellation and Refund Policy\n\nIn the event that Bocce Ball is cancelled or postponed\, due to weather or factors outside our control\, a full refund will be provided upon request\, or entry fee may be credited towards a future date.\n\n\n\nNo refunds will be issued if ticketholder cannot attend event unless requested 48hrs prior to event date.\n\nTickets may be purchased using the form below\n\n\n\n\n\n\nPowered by Eventbrite
X-ALT-DESC;FMTTYPE=text/html:<div>\n<div>\n<p>Bocce Ball is back at Beef &amp\; Barley. &nbsp\;As always\,&nbsp\;<a href="https://americanbocceco.com/" target="_blank">American Bocce Co</a>&nbsp\;will be running the show and the gang from <a href="http://www.newbelgium.com/" target="_blank">New Belgium Brewing</a>&nbsp\;will be in house providing you with some exceptional deals on some great beers</p>\n\n<p>The tournament will consist of 8 teams\, and each team will play a minimum of 2 games. &nbsp\;Teams will be made up of 4 players. &nbsp\;You may register a full 4 player team for $40*\, or may sign up individually for $10*. &nbsp\;Individual players will be randomly assigned to make teams of 4. &nbsp\;*<em>eventbrite fees not included in base ticket cost</em></p>\n\n<p>Prizes will be awarded to the top 2 finishing teams courtesy of New Belgium Brewing and Beef &amp\; Barley.</p>\n\n<p><em>BOCCE SPECIALS</em><br />\n<em>$4 New Belgium Cans</em><br />\n<em>$15 New Belgium Mix and Match Can Buckets</em></p>\n\n<p><em>FRIDAY SPECIALS</em><br />\n<em>$4 Lagunitas Drafts</em><br />\n<em>1/2 price bottles of wine</em><br />\n<em>Friday specials subject to change</em></p>\n\n<p>&nbsp\;</p>\n\n<p>For a complete list of rules\, or any other questions or concerns\, please email BeefandBarleyChi@gmail.com with BOCCE TOURNAMENT in the subject line.</p>\n\n<p>DON&#39\;T FORGET THE GOLDEN RULE:<br />\nAny throw made without a drink in hand will be forfeited!</p>\n\n<p><em>Cancellation and Refund Policy</em></p>\n\n<p><em>In the event that Bocce Ball is cancelled or postponed\, due to weather or factors outside our control\, a full refund will be provided upon request\, or entry fee may be credited towards a future date.</em></p>\n\n<p><br />\n<em>No refunds will be issued if ticketholder cannot attend event unless requested 48hrs prior to event date.</em></p>\n\n<p>Tickets may be purchased using the form below</p>\n</div>\n</div>\n\n<div>\n<div>\n<div>\n<div><a class="powered-by-eb" href="http://www.eventbrite.com/l/registration-online/" style="color: #dddddd\; text-decoration: none\;" target="_blank">Powered by Eventbrite</a></div>\n</div>\n</div>\n</div>\n
LOCATION:Beef & Barley is a neighborhood gastropub located in the heart of Lakeview that serves up craft beers\, cocktails and shared plates with a Chicago twist. The team prides themselves on offering guests a relaxed dining experience with an ever-changing curated list of Midwest\, hard-to-find brews and imaginative craft cocktails. Chef Cecil Rodriguez's seasonal menus are inspired by his love of Chicago and all of its eclectic neighborhoods and cuisines. With a highly affordable menu and specials each night of the week\, Beef & Barley offers something for everyone. Guests will never be bored with an array of entertainment options from trivia nights\, skee ball\, board games and an old school photo booth.
UID:e.1819.3592
SEQUENCE:3
DTSTAMP:20260422T062238Z
URL:https://members.lakeviewroscoevillage.org/events/details/bocce-ball-at-beef-barley-09-09-2016-3592
END:VEVENT

END:VCALENDAR
