BEGIN:VCALENDAR
VERSION:2.0
PRODID:-//ChamberMaster//Event Calendar 2.0//EN
METHOD:PUBLISH
X-PUBLISHED-TTL:P3D
REFRESH-INTERVAL:P3D
CALSCALE:GREGORIAN
BEGIN:VEVENT
DTSTART:20151127T160000Z
DTEND:20151202T030000Z
X-MICROSOFT-CDO-ALLDAYEVENT:FALSE
SUMMARY:Bottle & Bottega's Weekend of Giving
DESCRIPTION:Join Bottle & Bottega for a Weekend of Giving November 27th through December 1st. Bottle & Bottega has partnered with the Greater Chicago Food Depository to help those in need this holiday season. Donate three or more items and receive a 15 percent off coupon for your next visit.
X-ALT-DESC;FMTTYPE=text/html:Join Bottle &amp\; Bottega for a Weekend of Giving November 27th through December 1st. Bottle &amp\; Bottega has partnered with the Greater Chicago Food Depository to help those in need this holiday season. Donate three or more items and receive a 15 percent off coupon for your next visit.
LOCATION:2900 N. Lincoln Ave
UID:e.1819.2258
SEQUENCE:3
DTSTAMP:20260422T203830Z
URL:https://members.lakeviewroscoevillage.org/events/details/bottle-bottega-s-weekend-of-giving-11-27-2015-2258
END:VEVENT

END:VCALENDAR
