BEGIN:VCALENDAR
VERSION:2.0
PRODID:-//ChamberMaster//Event Calendar 2.0//EN
METHOD:PUBLISH
X-PUBLISHED-TTL:P3D
REFRESH-INTERVAL:P3D
CALSCALE:GREGORIAN
BEGIN:VEVENT
DTSTART:20140930T230000Z
DTEND:20141001T020000Z
X-MICROSOFT-CDO-ALLDAYEVENT:FALSE
SUMMARY:Bottle & Bottega Wine and Art Party at Southport & Irving (SIP)
DESCRIPTION:Southport & Irving (SIP) hosts a pop-up party with Bottle & Bottega\, Chicago's premier wine and art entertainment studio on Tuesday\, September 30 from 6-9 p.m. The inclusive $40 event begins with a 30-minute welcome reception\, featuring a Spanish wine tasting\, complimentary passed appetizers and education from Gordon Croy of Heritage Wine Cellars\, and moves into an art class with all materials provided from paint to aprons to easels. Local artists provide hands-on instruction during the art class and each attendee takes home their wine-themed masterpiece. Post-welcome reception\, attendees receive a half-price wine by the bottle discount. Reservations required\; tickets available at bottleandbottega.com.
X-ALT-DESC;FMTTYPE=text/html:<p style="margin-left: 4.3pt\;"><span style="font-family: &quot\;Arial&quot\;\,&quot\;sans-serif&quot\;\;"><font size="3"><font color="#000000">Southport &amp\; Irving (SIP) hosts a pop-up party with Bottle &amp\; Bottega\, Chicago&rsquo\;s premier wine and art entertainment studio on Tuesday\, September 30 from 6-9 p.m. The inclusive $40 event begins with a 30-minute welcome reception\, featuring a Spanish wine tasting\, complimentary passed appetizers and education from Gordon Croy of Heritage Wine Cellars\, and moves into an art class with all materials provided from paint to aprons to easels. Local artists provide hands-on instruction during the art class and each attendee takes home their wine-themed masterpiece. Post-welcome reception\, attendees receive a half-price wine by the bottle discount. Reservations required\; tickets available at bottleandbottega.com.<o:p></o:p></font></font></span></p>\n
LOCATION:Southport & Irving (SIP) 4000 N. Southport Ave. Chicago\, IL 60613 773-857-2890 southportandirving.com
UID:e.1819.365
SEQUENCE:3
DTSTAMP:20260424T002955Z
URL:https://members.lakeviewroscoevillage.org/events/details/bottle-bottega-wine-and-art-party-at-southport-irving-sip-09-30-2014-365
END:VEVENT

END:VCALENDAR
