BEGIN:VCALENDAR
VERSION:2.0
PRODID:-//ChamberMaster//Event Calendar 2.0//EN
METHOD:PUBLISH
X-PUBLISHED-TTL:P3D
REFRESH-INTERVAL:P3D
CALSCALE:GREGORIAN
BEGIN:VEVENT
DTSTART:20151105T140000Z
DTEND:20151105T160000Z
X-MICROSOFT-CDO-ALLDAYEVENT:FALSE
SUMMARY:Brainergy: Get Found Online SEO Workshop
DESCRIPTION:Through Google's Let's Put Our Cities On The Map\, Chicago Style SEO will teach you Search Engine Optimization (SEO) tips for getting your business listed and verified with Google My Business.  \n\n \n8:00-8:30AM Registration \n\n8:30-9:30AM Presentation\n\n9:30-10:00AM Q&A and Direct Assitance\n\nBring your tablet or laptop and receive direct assistance from SEO consultants.
X-ALT-DESC;FMTTYPE=text/html:Through Google&#39\;s Let&#39\;s Put Our Cities On The Map\, Chicago Style SEO will teach you Search Engine Optimization (SEO) tips for getting your business listed and verified with Google My Business. &nbsp\;<br />\n&nbsp\;\n<div>8:00-8:30AM&nbsp\;Registration&nbsp\;<br />\n8:30-9:30AM&nbsp\;Presentation<br />\n9:30-10:00AM&nbsp\;Q&amp\;A and Direct Assitance</div>\n\n<div>Bring your tablet or laptop and receive direct assistance from SEO consultants.</div>\n
LOCATION:Northwestern Physicians Group 1333 W Belmont Ave 2nd Floor Conference Room
UID:e.1819.2031
SEQUENCE:3
DTSTAMP:20260422T223234Z
URL:https://members.lakeviewroscoevillage.org/events/details/brainergy-get-found-online-seo-workshop-11-05-2015-2031
END:VEVENT

END:VCALENDAR
