BEGIN:VCALENDAR
VERSION:2.0
PRODID:-//ChamberMaster//Event Calendar 2.0//EN
METHOD:PUBLISH
X-PUBLISHED-TTL:P3D
REFRESH-INTERVAL:P3D
CALSCALE:GREGORIAN
BEGIN:VEVENT
DTSTART:20141120T150000Z
DTEND:20141120T160000Z
X-MICROSOFT-CDO-ALLDAYEVENT:FALSE
SUMMARY:Brainergy: Identity Theft Round Table
DESCRIPTION:Identity theft is the fastest-growing crime in America\, and each year millions of people lose thousands of dollars and hundreds of hours getting their identities back.  By having a plan in place\, you could avoid paying out of pocket and get help from a counselor to take back your identity. \n\nJoin us as Jennifer Ward from Liberty Mutual speaks about identity fraud and how to prevent it.  She will also talk about the importance of personal liability protection\, as the two coverage's are often overlooked and provide extra protection at a minimal cost for the unexpected.
X-ALT-DESC;FMTTYPE=text/html:<p style="font-family: 'Helvetica Neue'\, Helvetica\, Arial\, sans-serif\; line-height: 1.6em\; color: rgb(0\, 0\, 0)\;"><span data-mce-style="color: #1f497d\; font-family: Arial\, sans-serif\; font-size: 14.3999996185303px\; line-height: 1.6em\;" style="color: rgb(31\, 73\, 125)\; font-family: Arial\, sans-serif\; font-size: 14.3999996185303px\; line-height: 1.6em\;">Identity theft is the fastest-growing crime in America\, and each year millions of people lose thousands of dollars and hundreds of hours getting their identities back. &nbsp\;By having a plan in place\, you could avoid paying out of pocket and get help from a counselor to take back your identity.&nbsp\;</span></p>\n\n<p style="font-family: 'Helvetica Neue'\, Helvetica\, Arial\, sans-serif\; line-height: 1.6em\; color: rgb(0\, 0\, 0)\;"><span data-mce-style="color: #1f497d\; font-family: Arial\, sans-serif\; font-size: 14.3999996185303px\; line-height: 1.6em\;" style="color: rgb(31\, 73\, 125)\; font-family: Arial\, sans-serif\; font-size: 14.3999996185303px\; line-height: 1.6em\;">Join us as Jennifer Ward from Liberty Mutual speaks<span data-mce-style="color: #1f497d\; font-family: Arial\, sans-serif\; font-size: 14.3999996185303px\;" style="font-size: 14.3999996185303px\;">&nbsp\;about identity fraud and how to prevent it. &nbsp\;She will also talk about the importance of personal liability protection\, as the two coverage&rsquo\;s are often overlooked and provide extra protection at a minimal cost for the unexpected.</span></span></p>\n
LOCATION:Central Federal Savings 1601 W Belmont Ave Chicago\, IL 60657
UID:e.1819.509
SEQUENCE:3
DTSTAMP:20260423T222758Z
URL:https://members.lakeviewroscoevillage.org/events/details/brainergy-identity-theft-round-table-11-20-2014-509
END:VEVENT

END:VCALENDAR
