BEGIN:VCALENDAR
VERSION:2.0
PRODID:-//ChamberMaster//Event Calendar 2.0//EN
METHOD:PUBLISH
X-PUBLISHED-TTL:P3D
REFRESH-INTERVAL:P3D
CALSCALE:GREGORIAN
BEGIN:VEVENT
DTSTART:20140416T133000Z
DTEND:20140416T150000Z
X-MICROSOFT-CDO-ALLDAYEVENT:FALSE
SUMMARY:Brainergy: Increasing Your Sales & Profits in 30 Days
DESCRIPTION:The 3 Secrets to Increasing Retail Sales & Profits in 30 Days - Hosted by Cathy Wagner of Retail Mavens\n\nCathy Wagner helps business owners see more profit and develop more cash flow. Each year\, each client enjoys more profit than the previous year. Cathy's passion as The Retail Maven is to help retailers increase sales\, improve cash flow and create success and love their life! As a consultant\, writer and national speaker\, Cathy has the opportunity to impact even more retailers. She's been quoted in the Wall Street Journal\, Women's Wear Daily\, Money Magazine and shared the stage with many industry leaders. \n\n\n\nWe know that the retail industry has been hit hard during these difficult economic times and people are scared. Well\, let Cathy put your mind at ease. If you aren't generating a wide enough profit margin to make the money you want\, it's simply because you need to know these three secrets. Nothing more.\n\nCathy will show you exactly what to do to get the results that you want! Not only will you make more money   you will learn the exact steps you need to take to be truly successful in your business. www.retailmavens.com \n\n\n\nREGISTER ONLINE.\n\n\n\nThis event is appropriate for all business types\, not just retail. We hope you'll join us and learn how to increase your sales and profits. Open to members and non-members.\n\n\n\n8:30am Check-in and Networking\n\n9:00am Program starts\n\n9:45am Q&A\n\nBagels and coffee provided.  Easy street parking.
X-ALT-DESC;FMTTYPE=text/html:<p style="box-sizing: border-box\; margin: 0px 0px 1em\; color: rgb(118\, 109\, 108)\; font-family: MuseoSans-500\, Cambria\, 'Times New Roman'\, Times\, serif\; font-size: 16px\; line-height: 24px\;"><b style="box-sizing: border-box\; color: rgb(11\, 77\, 124)\;">The 3 Secrets to Increasing Retail Sales &amp\; Profits in 30 Days - Hosted by Cathy Wagner of Retail Mavens</b></p>\n\n<p style="box-sizing: border-box\; margin: 0px 0px 1em\; color: rgb(118\, 109\, 108)\; font-family: MuseoSans-500\, Cambria\, 'Times New Roman'\, Times\, serif\; font-size: 16px\; line-height: 24px\;"><span style="font-size:12px\;"><span style="font-family:verdana\;">Cathy Wagner helps business owners see more profit and develop more cash flow. Each year\, each client enjoys more profit than the previous year. Cathy&rsquo\;s passion as The Retail Maven is to help retailers increase sales\, improve cash flow and create success&hellip\;and love their life! As a consultant\, writer and national speaker\, Cathy has the opportunity to impact even more retailers.&nbsp\;She&rsquo\;s been quoted in the Wall Street Journal\, Women&rsquo\;s Wear Daily\, Money Magazine and shared the stage with many industry leaders.&nbsp\;<br />\n<br />\nWe know that the retail industry has been hit hard during these difficult economic times and people are scared. Well\, let Cathy put your mind at ease.&nbsp\;If you aren&rsquo\;t generating a wide enough profit margin to make the money you want\, it&rsquo\;s simply because you need to know these three secrets.&nbsp\;Nothing more.<br />\nCathy will show you exactly what to do to get the results that you want!&nbsp\;Not only will you make more money &ndash\; you will learn the exact steps you need to take to be truly successful in your business.&nbsp\;<a href="http://www.retailmavens.com/home/">www.retailmavens.com&nbsp\;</a></span></span><br />\n<br />\n<span style="font-size:12px\;"><span style="font-family:verdana\;"><a href="https://www.eventbrite.com/e/brainergy-increasing-your-sales-profits-in-30-days-tickets-11057155249">REGISTER ONLINE.</a><br />\n<br />\nThis event is appropriate for all business types\, not just retail. We hope you&#39\;ll join us and learn how to increase your sales and profits. Open to members and non-members.<br />\n<br />\n8:30am&nbsp\;Check-in and Networking<br />\n9:00am&nbsp\;Program starts<br />\n9:45am&nbsp\;Q&amp\;A<br />\n<span style="color: rgb(118\, 109\, 108)\; line-height: 24px\;">Bagels and coffee provided.&nbsp\;</span>&nbsp\;Easy street parking.</span></span></p>\n
LOCATION:Stage 773 1225 W. Belmont Ave Chicago\, IL 60613 Street parking in the morning is easily available.
UID:e.1819.235
SEQUENCE:3
DTSTAMP:20260424T121506Z
URL:https://members.lakeviewroscoevillage.org/events/details/brainergy-increasing-your-sales-profits-in-30-days-04-16-2014-235
END:VEVENT

END:VCALENDAR
