BEGIN:VCALENDAR
VERSION:2.0
PRODID:-//ChamberMaster//Event Calendar 2.0//EN
METHOD:PUBLISH
X-PUBLISHED-TTL:P3D
REFRESH-INTERVAL:P3D
CALSCALE:GREGORIAN
BEGIN:VEVENT
DTSTART:20150317T133000Z
DTEND:20150317T150000Z
X-MICROSOFT-CDO-ALLDAYEVENT:FALSE
SUMMARY:Brainergy: Lakeview Leaders Panel Discussion
DESCRIPTION:Join us for a Panel Discussion with Lakeview Leaders focusing on The Well Rounded Business Woman.  This is a great opportunity to network and learn from strong\, innovative and community minded entrepreneurs. \n\nSpeakers:\n\nLisa Santos-Southport Grocery\n\nMelissa Salvatore-A Little Photo Studio & Heritage Littles\n\nDr. Stephanie Maj-Community Chiropractic\n\n\n\nHosted by Northwestern Physicians Group & Walgreens Pharmacy (1333 W Belmont)\n\nCoffee & Pastries Donated by Whole Foods
X-ALT-DESC;FMTTYPE=text/html:Join us for a Panel Discussion with Lakeview&nbsp\;Leaders focusing on The Well Rounded Business Woman. &nbsp\;This is a great opportunity to network and learn from strong\, innovative and community minded entrepreneurs.&nbsp\;<br />\nSpeakers:<br />\nLisa Santos-<a href="http://www.southportgrocery.com/">Southport Grocery</a><br />\nMelissa Salvatore-<a href="http://www.alittlephotostudio.com/">A Little Photo Studio</a>&nbsp\;&amp\;&nbsp\;<a href="http://www.heritagelittles.com/">Heritage Littles</a><br />\nDr. Stephanie Maj-<a href="http://communitychiropractic.net/">Community</a><a href="http://communitychiropractic.net/"> Chiropractic</a><br />\n<br />\nHosted by Northwestern Physicians Group &amp\; Walgreens Pharmacy (1333 W Belmont)<br />\nCoffee &amp\; Pastries Donated by Whole Foods
LOCATION:1333 W Belmont 2nd Floor Chicago\, IL
UID:e.1819.1503
SEQUENCE:3
DTSTAMP:20260423T151542Z
URL:https://members.lakeviewroscoevillage.org/events/details/brainergy-lakeview-leaders-panel-discussion-03-17-2015-1503
END:VEVENT

END:VCALENDAR
