BEGIN:VCALENDAR
VERSION:2.0
PRODID:-//ChamberMaster//Event Calendar 2.0//EN
METHOD:PUBLISH
X-PUBLISHED-TTL:P3D
REFRESH-INTERVAL:P3D
CALSCALE:GREGORIAN
BEGIN:VEVENT
DTSTART:20160922T133000Z
DTEND:20160922T143000Z
X-MICROSOFT-CDO-ALLDAYEVENT:FALSE
SUMMARY:Brainergy: New Rules\, Rising Costs\, and How Businesses Can Adapt
DESCRIPTION:You may have noticed that the cost of doing business has been rising more rapidly in recent years -- from changes in federal rules for exempt employees and overtime\, to the minimum wage increase and paid sick leave for part-time employees in Chicago\, to sales tax and property tax increases. It's time to get up-to-speed on the latest changes in employment rules and taxes\, and learn how other local Lakeview businesses are adapting their business plans to succeed in the face of rising costs.\n\n \nPanelists:\n\nMason Cole\, Cole Sadkin\, LLC\n\nLisa Santos\, Southport Grocery\n\nJeff Shapiro\, Spindle Fitness
X-ALT-DESC;FMTTYPE=text/html:You may have noticed that the cost of doing business has been rising more rapidly in recent years -- from changes in federal rules for exempt employees and overtime\, to the minimum wage increase and paid sick leave for part-time employees in Chicago\, to sales tax and property tax increases. It&#39\;s time to get up-to-speed on the latest changes in employment rules and taxes\, and learn how other local Lakeview businesses are adapting their business plans to succeed in the face of rising costs.<br />\n&nbsp\;\n<div>Panelists:</div>\n\n<div>Mason Cole\, Cole Sadkin\, LLC</div>\n\n<div>Lisa Santos\, Southport Grocery</div>\n\n<div>Jeff Shapiro\, Spindle Fitness</div>\n
LOCATION:Northwestern Physician Group\, 2nd Floor Conf. Room 1333 W Belmont
UID:e.1819.3558
SEQUENCE:3
DTSTAMP:20260422T062802Z
URL:https://members.lakeviewroscoevillage.org/events/details/brainergy-new-rules-rising-costs-and-how-businesses-can-adapt-09-22-2016-3558
END:VEVENT

END:VCALENDAR
