BEGIN:VCALENDAR
VERSION:2.0
PRODID:-//ChamberMaster//Event Calendar 2.0//EN
METHOD:PUBLISH
X-PUBLISHED-TTL:P3D
REFRESH-INTERVAL:P3D
CALSCALE:GREGORIAN
BEGIN:VEVENT
DTSTART:20140920T190000Z
DTEND:20140921T000000Z
X-MICROSOFT-CDO-ALLDAYEVENT:FALSE
SUMMARY:Break a Keg Bar Crawl
DESCRIPTION:Do you like Stage 773? Do you like to drink? Why not do both?! Signup for Stage 773's Break a Keg Bar Crawl\, a FUNdraising event supporting our new education program. For $20 you get access to drink specials at nine different bars along Belmont\, a T-Shirt and a chance to win cool prizes at each stop. Bar stops include: The Pony\, Flagship\, Fizz Bar & Grill\, Schuba's\, Stage 773\, Cooper's\, Higgins Tavern\, Trader Todd's\, and Cheesie's.
X-ALT-DESC;FMTTYPE=text/html:Do you like Stage 773? Do you like to drink? Why not do both?! Signup for Stage 773&#39\;s Break a Keg Bar Crawl\, a FUNdraising event supporting our new education program. For $20 you get access to drink specials at nine different bars along Belmont\, a T-Shirt and a chance to win cool prizes at each stop. Bar stops include: The Pony\, Flagship\, Fizz Bar &amp\; Grill\, Schuba&#39\;s\, Stage 773\, Cooper&#39\;s\, Higgins Tavern\, Trader Todd&#39\;s\, and Cheesie&#39\;s.
LOCATION:Event kicks off at The Pony Chicago\; 1638 W. Belmont Ave. Chicago IL 60657
UID:e.1819.493
SEQUENCE:3
DTSTAMP:20260424T002420Z
URL:https://members.lakeviewroscoevillage.org/events/details/break-a-keg-bar-crawl-09-20-2014-493
END:VEVENT

END:VCALENDAR
