BEGIN:VCALENDAR
VERSION:2.0
PRODID:-//ChamberMaster//Event Calendar 2.0//EN
METHOD:PUBLISH
X-PUBLISHED-TTL:P3D
REFRESH-INTERVAL:P3D
CALSCALE:GREGORIAN
BEGIN:VEVENT
DTSTART:20131207T160000Z
DTEND:20131207T180000Z
X-MICROSOFT-CDO-ALLDAYEVENT:FALSE
SUMMARY:Breakfast with Santa at Diag
DESCRIPTION:Meet & Greet with Santa! Enjoy a Hot Buffet Breakfast\, Holiday Crafts & Photos with Santa. $15 All you can eat buffet\, Kids 12 & Under are free.\n\n*Bring a new\, small\, unwrapped toy or stuffed animal to donate to Swedish Covenant Hospital's Emergency Department\n\n\n\nPlease see the flyer for more details.
X-ALT-DESC;FMTTYPE=text/html:Meet &amp\; Greet with Santa! Enjoy a Hot Buffet Breakfast\, Holiday Crafts &amp\; Photos with Santa. $15 All you can eat buffet\, Kids 12 &amp\; Under are free.<br />\n*Bring a new\, small\, unwrapped toy or stuffed animal to donate to Swedish Covenant Hospital&#39\;s Emergency Department<br />\n<br />\nPlease see the<a href="http://cloud.chambermaster.com/userfiles/UserFiles/chambers/1819/File/DIAGSanta11x17.pdf"> flyer </a>for more details.
LOCATION:Diag Bar & Grill 2856 N. Southport Ave
UID:e.1819.121
SEQUENCE:3
DTSTAMP:20260424T190128Z
URL:https://members.lakeviewroscoevillage.org/events/details/breakfast-with-santa-at-diag-12-07-2013-121
END:VEVENT

END:VCALENDAR
