BEGIN:VCALENDAR
VERSION:2.0
PRODID:-//ChamberMaster//Event Calendar 2.0//EN
METHOD:PUBLISH
X-PUBLISHED-TTL:P3D
REFRESH-INTERVAL:P3D
CALSCALE:GREGORIAN
BEGIN:VEVENT
DTSTART;VALUE=DATE:20141213
DTEND;VALUE=DATE:20141214
TRANSP:TRANSPARENT
X-MICROSOFT-CDO-ALLDAYEVENT:TRUE
SUMMARY:Breakfast with Santa at Diag Bar & Grill
DESCRIPTION:Diag Bar & Grill Presents...\n\nBreakfast with Santa\n\n\n\n$15 Buffet\, Photos with Santa & Crafts for Kids!\n\n*FREE for Kids under 10 years old
X-ALT-DESC;FMTTYPE=text/html:Diag Bar &amp\; Grill Presents...<br />\nBreakfast with Santa<br />\n<br />\n$15 Buffet\, Photos with Santa &amp\; Crafts for Kids!<br />\n*FREE for Kids under 10 years old
LOCATION:Diag Bar & Grill 2856 N Southport Ave
UID:e.1819.1324
SEQUENCE:3
DTSTAMP:20260423T192807Z
URL:https://members.lakeviewroscoevillage.org/events/details/breakfast-with-santa-at-diag-bar-grill-12-13-2014-1324
END:VEVENT

END:VCALENDAR
