BEGIN:VCALENDAR
VERSION:2.0
PRODID:-//ChamberMaster//Event Calendar 2.0//EN
METHOD:PUBLISH
X-PUBLISHED-TTL:P3D
REFRESH-INTERVAL:P3D
CALSCALE:GREGORIAN
BEGIN:VEVENT
DTSTART:20160625T190000Z
DTEND:20160625T220000Z
X-MICROSOFT-CDO-ALLDAYEVENT:FALSE
SUMMARY:Brewery Fest
DESCRIPTION:Not sure what beer will be your new summer beer?  Join us for an afternoon full of different samples from all over! \n\nTaste several different craft beers and enjoy an afternoon finding your new favorite!\n\n"Build Your Own Bucket" specials featuring the different beers.\n\nTickets include: beer samples from each vendor\, swag and give-aways\, and light appetizers\n\nConfirmed Vendors: Founders\, Sweet Water\, Bells\, Goose Island\, and many more!
X-ALT-DESC;FMTTYPE=text/html:<p>Not sure what beer will be your new summer beer? &nbsp\;Join us for an afternoon full of different samples from all over!&nbsp\;</p>\n\n<p>Taste several different craft beers and enjoy an afternoon finding your new favorite!</p>\n\n<p>&quot\;Build Your Own Bucket&quot\; specials featuring the different beers.</p>\n\n<p>Tickets include: beer samples from each vendor\, swag and give-aways\, and light appetizers</p>\n\n<p>Confirmed Vendors: Founders\, Sweet Water\, Bells\, Goose Island\, and many more!&nbsp\;</p>\n
LOCATION:Diag Bar & Grill ?2856 N Southport Ave Chicago IL 60657 773.404.8400
UID:e.1819.2962
SEQUENCE:3
DTSTAMP:20260422T095118Z
URL:https://members.lakeviewroscoevillage.org/events/details/brewery-fest-06-25-2016-2962
END:VEVENT

END:VCALENDAR
