BEGIN:VCALENDAR
VERSION:2.0
PRODID:-//ChamberMaster//Event Calendar 2.0//EN
METHOD:PUBLISH
X-PUBLISHED-TTL:P3D
REFRESH-INTERVAL:P3D
CALSCALE:GREGORIAN
BEGIN:VEVENT
DTSTART:20140615T000000Z
DTEND:20140615T010000Z
X-MICROSOFT-CDO-ALLDAYEVENT:FALSE
SUMMARY:Bri-Ko Show at Stage 773 One Night Only!
DESCRIPTION:Don't miss your chance to see Bri-Ko\, the winner of the 2014 Best Sketch Show at Toronto Sketch Comedy Festival! Starring Brian Posen\, Brian Peterlin\, and Tim Soszko. One performance only at Stage 773's Funhouse Fundraiser on June 14th\, at 7:00 pm. All silent. All funny. Anyone of almost any age\, speaking any language\, with any cultural background can understand and appreciate this show. In a Bri-Ko performance\, the simplest tasks become inventive adventures of clowning\, gags\, and gadgetry. The three performers enact silent scenes in which easy processes are made as difficult and elaborate as possible. Bri-Ko's appeal is universal.
X-ALT-DESC;FMTTYPE=text/html:Don&#39\;t miss your chance to see Bri-Ko\, the winner of the 2014 Best Sketch Show at Toronto Sketch Comedy Festival! Starring Brian Posen\, Brian Peterlin\, and Tim Soszko. One performance only at Stage 773&#39\;s Funhouse Fundraiser on June 14th\, at 7:00 pm. All silent. All funny. Anyone of almost any age\, speaking any language\, with any cultural background can understand and appreciate this show. In a Bri-Ko performance\, the simplest tasks become inventive adventures of clowning\, gags\, and gadgetry. The three performers enact silent scenes in which easy processes are made as difficult and elaborate as possible. Bri-Ko&#39\;s appeal is universal.&nbsp\;
LOCATION:Stage 773 1225 W. Belmont
UID:e.1819.295
SEQUENCE:3
DTSTAMP:20260424T095441Z
URL:https://members.lakeviewroscoevillage.org/events/details/bri-ko-show-at-stage-773-one-night-only-06-14-2014-295
END:VEVENT

END:VCALENDAR
