BEGIN:VCALENDAR
VERSION:2.0
PRODID:-//ChamberMaster//Event Calendar 2.0//EN
METHOD:PUBLISH
X-PUBLISHED-TTL:P3D
REFRESH-INTERVAL:P3D
CALSCALE:GREGORIAN
BEGIN:VEVENT
DTSTART:20141026T210000Z
DTEND:20141027T000000Z
X-MICROSOFT-CDO-ALLDAYEVENT:FALSE
SUMMARY:Brow Hour
DESCRIPTION:All NEW guest will receive a complimentary eyebrow waxing\, and any established guest who bring in their friends will receive $5 in store credit!\n\n \n\nThere will be refreshments and giveaways. Space is limited so call to reserve your slot now!
X-ALT-DESC;FMTTYPE=text/html:<p style="color: rgb(34\, 34\, 34)\; font-family: arial\; line-height: normal\; margin: 0px\; padding: 0px\; font-size: 10pt\; word-wrap: break-word\;">All NEW guest will receive a complimentary eyebrow waxing\, and any established guest who bring in their friends will receive $5 in store credit!</p>\n\n<p style="color: rgb(34\, 34\, 34)\; font-family: arial\; line-height: normal\; margin: 0px\; padding: 0px\; font-size: 10pt\; word-wrap: break-word\;">&nbsp\;</p>\n\n<p style="color: rgb(34\, 34\, 34)\; font-family: arial\; line-height: normal\; margin: 0px\; padding: 0px\; font-size: 10pt\; word-wrap: break-word\;">There will be refreshments and giveaways. Space is limited so call to reserve your slot now!</p>\n
LOCATION:European Wax Center 3728 N. Southport Ave. Chicago IL 60613
UID:e.1819.501
SEQUENCE:3
DTSTAMP:20260423T223547Z
URL:https://members.lakeviewroscoevillage.org/events/details/brow-hour-10-26-2014-501
END:VEVENT

END:VCALENDAR
