BEGIN:VCALENDAR
VERSION:2.0
PRODID:-//ChamberMaster//Event Calendar 2.0//EN
METHOD:PUBLISH
X-PUBLISHED-TTL:P3D
REFRESH-INTERVAL:P3D
CALSCALE:GREGORIAN
BEGIN:VEVENT
DTSTART:20171122T230000Z
DTEND:20171123T000000Z
X-MICROSOFT-CDO-ALLDAYEVENT:FALSE
SUMMARY:Budgets Made Easy Money Workshop
DESCRIPTION:Budgets get a bad rap. We tend to think of "budgeting" as limiting our choices. But having a budget does not mean you have to feel deprived. On the contrary\, a budget can help you build savings\, and even put you on the road to accomplishing your goals.\n\n\n\n***Caf  Ambassadors are not licensed financial advisers and do not provide individual banking advice
X-ALT-DESC;FMTTYPE=text/html:<span style="font-size: 12.8px\; font-family: &quot\;Calibri Light&quot\;\; color: rgb(2\, 24\, 41)\; background: white\;">Budgets get a bad rap. We tend to think of &ldquo\;budgeting&rdquo\; as limiting our choices. But having a budget does not mean you have to feel deprived. On the contrary\, a budget can help you&nbsp\;<i>build</i>&nbsp\;savings\, and even put you on the road to accomplishing your goals.</span><br />\n<br />\n<span style="background-color: rgb(255\, 255\, 255)\;"><font color="#021829" face="Calibri Light"><span style="font-size: 12.8px\;">***Caf&eacute\; Ambassadors are not licensed financial advisers&nbsp\;and do not provide individual banking advice</span></font></span>
LOCATION:Capital One Cafe 3435 N Southport
UID:e.1819.11208
SEQUENCE:3
DTSTAMP:20260419T142453Z
URL:https://members.lakeviewroscoevillage.org/events/details/budgets-made-easy-money-workshop-11-22-2017-11208
END:VEVENT

END:VCALENDAR
