BEGIN:VCALENDAR
VERSION:2.0
PRODID:-//ChamberMaster//Event Calendar 2.0//EN
METHOD:PUBLISH
X-PUBLISHED-TTL:P3D
REFRESH-INTERVAL:P3D
CALSCALE:GREGORIAN
BEGIN:VEVENT
DTSTART:20160827T133000Z
DTEND:20160827T163000Z
X-MICROSOFT-CDO-ALLDAYEVENT:FALSE
SUMMARY:Burpees and Brunch
DESCRIPTION:Join CrossTown Fitness\, 105F Yoga and The Barre Code for a workout on the beach on Saturday\, August 27th at North Ave Beach from 8:30am -11:30am.\n\n\n	Registration at 8am\n	Workout Starts at 8:30am\n	3 Stations: 30min each\n	Brunch 10:30-11:30am\n	Cost: $40 Members  $50 Non-Members\n	Register by August 15th\n\n\nIncludes Brunch + Event Tank Top +E Goodie Bag\n\nSpace is limited! Sign up HERE to secure your spot.
X-ALT-DESC;FMTTYPE=text/html:<p>Join CrossTown Fitness\, 105F Yoga and The Barre Code for a workout on the beach on&nbsp\;<span style="line-height:1.6\; text-align:center">Saturday\, August 27th at North Ave Beach from 8:30am -11:30am.</span></p>\n\n<ul>\n	<li>Registration at 8am</li>\n	<li>Workout Starts at 8:30am</li>\n	<li>3 Stations: 30min each</li>\n	<li>Brunch 10:30-11:30am</li>\n	<li>Cost: $40&nbsp\;Members &nbsp\;$50&nbsp\;Non-Members</li>\n	<li>Register by August 15th</li>\n</ul>\n\n<p style="text-align:center">Includes&nbsp\;Brunch + Event Tank Top +E Goodie Bag<br />\nSpace is limited! Sign up <a href="http://crosstownfitness.com/ctf-community/">HERE</a> to secure your spot.&nbsp\;</p>\n
LOCATION:North Avenue Beach - Workout Ranalli's - Brunch
UID:e.1819.3552
SEQUENCE:3
DTSTAMP:20260422T080606Z
URL:https://members.lakeviewroscoevillage.org/events/details/burpees-and-brunch-08-27-2016-3552
END:VEVENT

END:VCALENDAR
