BEGIN:VCALENDAR
VERSION:2.0
PRODID:-//ChamberMaster//Event Calendar 2.0//EN
METHOD:PUBLISH
X-PUBLISHED-TTL:P3D
REFRESH-INTERVAL:P3D
CALSCALE:GREGORIAN
BEGIN:VEVENT
DTSTART:20150909T223000Z
DTEND:20150910T003000Z
X-MICROSOFT-CDO-ALLDAYEVENT:FALSE
SUMMARY:Business After Hours at Diag Bar & Grill
DESCRIPTION:Join us for a Business After Hours networking event at Diag Bar & Grill. Enjoy complimentary hors d' oeuvres and beverages from Diag.
X-ALT-DESC;FMTTYPE=text/html:Join us for a Business After Hours networking event at Diag Bar &amp\; Grill. Enjoy complimentary hors d&#39\; oeuvres and beverages from Diag.
LOCATION:Diag Bar & Grill 2856 N Southport Ave
UID:e.1819.1805
SEQUENCE:3
DTSTAMP:20260423T021148Z
URL:https://members.lakeviewroscoevillage.org/events/details/business-after-hours-at-diag-bar-grill-09-09-2015-1805
END:VEVENT

END:VCALENDAR
