BEGIN:VCALENDAR
VERSION:2.0
PRODID:-//ChamberMaster//Event Calendar 2.0//EN
METHOD:PUBLISH
X-PUBLISHED-TTL:P3D
REFRESH-INTERVAL:P3D
CALSCALE:GREGORIAN
BEGIN:VEVENT
DTSTART:20150826T223000Z
DTEND:20150827T003000Z
X-MICROSOFT-CDO-ALLDAYEVENT:FALSE
SUMMARY:Business After Hours at Kruger Gallery
DESCRIPTION:Join us for networking\, conversation and art at Kruger Gallery.
X-ALT-DESC;FMTTYPE=text/html:Join us for networking\, conversation and art at Kruger Gallery.&nbsp\;
LOCATION:Kruger Gallery 3709 N Southport Ave
UID:e.1819.1804
SEQUENCE:3
DTSTAMP:20260423T040945Z
URL:https://members.lakeviewroscoevillage.org/events/details/business-after-hours-at-kruger-gallery-08-26-2015-1804
END:VEVENT

END:VCALENDAR
