BEGIN:VCALENDAR
VERSION:2.0
PRODID:-//ChamberMaster//Event Calendar 2.0//EN
METHOD:PUBLISH
X-PUBLISHED-TTL:P3D
REFRESH-INTERVAL:P3D
CALSCALE:GREGORIAN
BEGIN:VEVENT
DTSTART:20150512T223000Z
DTEND:20150513T003000Z
X-MICROSOFT-CDO-ALLDAYEVENT:FALSE
SUMMARY:Business After Hours: Countryside Bank
DESCRIPTION:40th Anniversary Celebration\n\nBusiness After Hours: Countryside Bank
X-ALT-DESC;FMTTYPE=text/html:40th Anniversary Celebration<br />\nBusiness After Hours: Countryside Bank<br />\n&nbsp\;
LOCATION:Countryside Bank 3323 N Clark St
UID:e.1819.1564
SEQUENCE:3
DTSTAMP:20260423T093858Z
URL:https://members.lakeviewroscoevillage.org/events/details/business-after-hours-countryside-bank-05-12-2015-1564
END:VEVENT

END:VCALENDAR
