BEGIN:VCALENDAR
VERSION:2.0
PRODID:-//ChamberMaster//Event Calendar 2.0//EN
METHOD:PUBLISH
X-PUBLISHED-TTL:P3D
REFRESH-INTERVAL:P3D
CALSCALE:GREGORIAN
BEGIN:VEVENT
DTSTART:20150407T230000Z
DTEND:20150408T010000Z
X-MICROSOFT-CDO-ALLDAYEVENT:FALSE
SUMMARY:Business After Hours: Flagship
DESCRIPTION:Join us for a Business After Hours Networking event hosted by Flagship.  Enjoy complimentary drinks and appetizers courtesy of Flagship.  Come watch the Mayoral Election Coverage and enter to win a $50 Flagship gift card.\n\n\n\nAbout Flagship:\n\nOne of Lakeview's top sports bar & grills\, Flagship is part of the Garage Tavern Group (The Stretch\, Cortland's Garage\, Standard Bar & Grill). Its 15 TVs\, including five 70" displays and a quad 92" video wall\, make it the go to game day spot for Miami fans and all Chicago sports. Post-game Flagship becomes the local destination for nightlife.
X-ALT-DESC;FMTTYPE=text/html:<span style="font-family: arial\; font-size: 12px\; line-height: 19.2000007629395px\;">Join us for a Business After Hours Networking event hosted by Flagship. &nbsp\;Enjoy complimentary drinks and&nbsp\;appetizers&nbsp\;courtesy&nbsp\;of Flagship.&nbsp\;&nbsp\;Come watch&nbsp\;the Mayoral Election Coverage and enter to win a $50 Flagship gift card.<br />\n<br />\n<strong><span style="color: rgb(51\, 153\, 255)\;">About Flagship:</span></strong></span><br style="font-family: arial\; font-size: 12px\; line-height: 19.2000007629395px\;" />\n<span style="font-family: arial\; font-size: 12px\; letter-spacing: 0.684000015258789px\; line-height: 19.7196254730225px\; text-align: center\;">One of Lakeview&rsquo\;s top sports&nbsp\;</span><span style="font-family: arial\; font-size: 12px\; letter-spacing: 0.684000015258789px\; line-height: 19.7196254730225px\; text-align: center\;">bar &amp\; grills\, Flagship&nbsp\;is part of the Garage Tavern&nbsp\;Group (The Stretch\, Cortland&rsquo\;s Garage\, Standard Bar &amp\; Grill). Its 15 TVs\, including five 70&rdquo\; displays and a quad 92&rdquo\; video wall\, make it the go to game day spot&nbsp\;for Miami fans and all Chicago sports.&nbsp\;Post-game Flagship becomes the local destination for nightlife.</span>
LOCATION:Flagship 1622 W. Belmont Chicago\, IL
UID:e.1819.1504
SEQUENCE:3
DTSTAMP:20260423T112847Z
URL:https://members.lakeviewroscoevillage.org/events/details/business-after-hours-flagship-04-07-2015-1504
END:VEVENT

END:VCALENDAR
