BEGIN:VCALENDAR
VERSION:2.0
PRODID:-//ChamberMaster//Event Calendar 2.0//EN
METHOD:PUBLISH
X-PUBLISHED-TTL:P3D
REFRESH-INTERVAL:P3D
CALSCALE:GREGORIAN
BEGIN:VEVENT
DTSTART:20150519T230000Z
DTEND:20150520T010000Z
X-MICROSOFT-CDO-ALLDAYEVENT:FALSE
SUMMARY:Business After Hours: Las Tablas
DESCRIPTION:Join us for a Business After Hours networking event at Las Tablas.
X-ALT-DESC;FMTTYPE=text/html:Join us for a Business After Hours networking event at Las Tablas. &nbsp\;
LOCATION:Las Tablas Colombian Steakhouse\, 2942 N. Lincoln Ave.\, Chicago\, IL
UID:e.1819.1507
SEQUENCE:3
DTSTAMP:20260423T113001Z
URL:https://members.lakeviewroscoevillage.org/events/details/business-after-hours-las-tablas-05-19-2015-1507
END:VEVENT

END:VCALENDAR
