BEGIN:VCALENDAR
VERSION:2.0
PRODID:-//ChamberMaster//Event Calendar 2.0//EN
METHOD:PUBLISH
X-PUBLISHED-TTL:P3D
REFRESH-INTERVAL:P3D
CALSCALE:GREGORIAN
BEGIN:VEVENT
DTSTART:20141111T233000Z
DTEND:20141112T020000Z
X-MICROSOFT-CDO-ALLDAYEVENT:FALSE
SUMMARY:Business Boot Camp
DESCRIPTION:Please join us for Business Boot Camp\, hosted by Elits & Associates.  This seminar and networking event will cover the fundamentals of good fiscal management for small and mid-sized businesses\, including:\n\n	tax planning\n	budgeting and forecasting\n	best accounting practices\n	LLC\, S-Corp\, Sole Proprietorship?
X-ALT-DESC;FMTTYPE=text/html:Please join us for Business Boot Camp\, hosted by Elits &amp\; Associates. &nbsp\;This seminar and networking event will cover the fundamentals of good fiscal management for small and mid-sized businesses\, including:\n<ul>\n	<li>tax planning</li>\n	<li>budgeting and forecasting</li>\n	<li>best accounting practices</li>\n	<li>LLC\, S-Corp\, Sole Proprietorship?</li>\n</ul>\n
LOCATION:Mystic Celt Bar and Grill 3443 N. Southport Ave Chicago\, IL 60657
UID:e.1819.499
SEQUENCE:3
DTSTAMP:20260423T205406Z
URL:https://members.lakeviewroscoevillage.org/events/details/business-boot-camp-11-11-2014-499
END:VEVENT

END:VCALENDAR
