BEGIN:VCALENDAR
VERSION:2.0
PRODID:-//ChamberMaster//Event Calendar 2.0//EN
METHOD:PUBLISH
X-PUBLISHED-TTL:P3D
REFRESH-INTERVAL:P3D
CALSCALE:GREGORIAN
BEGIN:VEVENT
DTSTART:20131125T170000Z
DTEND:20131125T180000Z
X-MICROSOFT-CDO-ALLDAYEVENT:FALSE
SUMMARY:Business Safety Seminar
DESCRIPTION:The 19th Police District \n\n	Along with Alderman Tunney will give a presentation about Robbery and Theft Prevention \n\n	Date: Monday\, November 25\, 2013 \n\n	For your convenience there are two sessions \n\n	At 11:00-12:00 P.M. and 2:00-3:00 P.M. \n\n	\n\n	For more information call: \n\n	19th Police CAPS office at 312-744-0064 \n\n	CAPS019district@chicagopolice.org
X-ALT-DESC;FMTTYPE=text/html:<p>\n	<span style="font-size: 12px\;"><span style="font-family: arial\;">The 19th Police District </span></span></p>\n<p>\n	<span style="font-size: 12px\;"><span style="font-family: arial\;">Along with Alderman Tunney will give a </span></span><span style="font-size: 12px\;"><span style="font-family: arial\;">presentation about Robbery and Theft </span></span><span style="font-size: 12px\;"><span style="font-family: arial\;">Prevention </span></span></p>\n<p>\n	<span style="font-size: 12px\;"><span style="font-family: arial\;"><b><i>Date: </i></b></span></span><span style="font-size: 12px\;"><span style="font-family: arial\;">Monday\, November 25\, 2013 </span></span></p>\n<p>\n	<span style="font-size: 12px\;"><span style="font-family: arial\;">For your convenience th</span></span><span style="font-size: 12px\;"><span style="font-family: arial\;">ere are two sessions </span></span></p>\n<p>\n	<span style="font-size: 12px\;"><span style="font-family: arial\;">At 11:00-12:00 P.M. and 2:00-3:00 P.M. </span></span></p>\n<p>\n	<br />\n	<span style="font-size: 12px\;"><span style="font-family: arial\;"><b><font face="Times New Roman\,Times New Roman"><font face="Times New Roman\,Times New Roman">F</font></font>or more information call: </b></span></span></p>\n<p>\n	<span style="font-size: 12px\;"><span style="font-family: arial\;"><b>19th Police CAPS office at 312-744-0064 </b></span></span></p>\n<p>\n	<span style="font-size: 12px\;"><span style="font-family: arial\;"><b>CAPS019district@chicagopolice.org </b></span></span></p>\n<p>\n	<br />\n	<span style="font-size: 12px\;"><span style="font-family: arial\;">&nbsp\;</span></span></p>\n<p>\n	<span style="font-size: 12px\;">&nbsp\;</span></p>\n<p>\n	&nbsp\;</p>\n
LOCATION:Location: The 19th Police District 850 W. Addison
UID:e.1819.124
SEQUENCE:3
DTSTAMP:20260424T223409Z
URL:https://members.lakeviewroscoevillage.org/events/details/business-safety-seminar-11-25-2013-124
END:VEVENT

END:VCALENDAR
