BEGIN:VCALENDAR
VERSION:2.0
PRODID:-//ChamberMaster//Event Calendar 2.0//EN
METHOD:PUBLISH
X-PUBLISHED-TTL:P3D
REFRESH-INTERVAL:P3D
CALSCALE:GREGORIAN
BEGIN:VEVENT
DTSTART;VALUE=DATE:20141105
DTEND;VALUE=DATE:20150201
TRANSP:TRANSPARENT
X-MICROSOFT-CDO-ALLDAYEVENT:TRUE
SUMMARY:Button & Zipper Coat Drive
DESCRIPTION:This year\, we've raised the bar. Our goal is to collect and donate 1\,500 coats between now and early spring 2015.  We hope you'll join us in helping Chicago's homeless adults and at risk youth stay warm this winter.\n\nIt's easy. Dig through your closets\, pull out any gently used coats or jackets that you and your family no longer wear.
X-ALT-DESC;FMTTYPE=text/html:<p style="font-family: 'Segoe UI'\, Arial\, sans-serif\; border: 0px\; margin: 0px 0px 1.5em\; padding: 0px\; vertical-align: baseline\; font-size: 14px\; line-height: 23.7999992370605px\; background-image: initial\; background-attachment: initial\; background-size: initial\; background-origin: initial\; background-clip: initial\; background-position: initial\; background-repeat: initial\;">This year\, we&rsquo\;ve raised the bar. Our goal is to collect and donate 1\,500 coats between now and early spring 2015. &nbsp\;We hope you&rsquo\;ll join us in helping Chicago&rsquo\;s homeless adults and at risk youth stay warm this winter.</p>\n\n<p style="font-family: 'Segoe UI'\, Arial\, sans-serif\; border: 0px\; margin: 0px 0px 1.5em\; padding: 0px\; vertical-align: baseline\; font-size: 14px\; line-height: 23.7999992370605px\; background-image: initial\; background-attachment: initial\; background-size: initial\; background-origin: initial\; background-clip: initial\; background-position: initial\; background-repeat: initial\;">It&rsquo\;s easy. Dig through your closets\, pull out any gently used coats or jackets that you and your family no longer wear.</p>\n
LOCATION:We are proud to be a drop off site. Lakeview Chamber of Commerce | 1409 W Addison | Chicago\, IL 60613
UID:e.1819.717
SEQUENCE:3
DTSTAMP:20260423T171631Z
URL:https://members.lakeviewroscoevillage.org/events/details/button-zipper-coat-drive-11-05-2014-717
END:VEVENT

END:VCALENDAR
