BEGIN:VCALENDAR
VERSION:2.0
PRODID:-//ChamberMaster//Event Calendar 2.0//EN
METHOD:PUBLISH
X-PUBLISHED-TTL:P3D
REFRESH-INTERVAL:P3D
CALSCALE:GREGORIAN
BEGIN:VEVENT
DTSTART;VALUE=DATE:20140206
DTEND;VALUE=DATE:20140217
TRANSP:TRANSPARENT
X-MICROSOFT-CDO-ALLDAYEVENT:TRUE
SUMMARY:Buy One Get One 50% Off!
DESCRIPTION:SALE EXTENDED! \n																		\n																	\n																\n															\n														\n														\n															\n																\n																	\n																		\n																			\n																				You can blame Mother Nature for this lousy Winter\, but she's also the reason we've decided to extend our BUY ONE GET ONE 50% OFF SALE! Brave the cold and snow\, and be rewarded with some amazing deals on new transition pieces!\n\n																				\n\n																				BUY ONE REGULARLY PRICED\n\n																				\n\n																				ITEM\, AND GET ANY SECOND\n\n																				\n\n																				ITEM FOR 50% OFF!!*  \n\n																				\n\n																				Sale Extended Through Sunday\, February 16th!\n\n																				   \n\n																				*Includes all jewelry\, handbags and accessories.  50% discount will be taken on item of equal or lesser value.  May not be combined with any other offers. Not applicable to sale rack items.   \n																		\n																	\n																\n															\n														\n														\n															\n																\n																	\n																		\n																			\n																				She One Boutique\n\n																				3544 North Southport Avenue\n\n																				Chicago IL 60657\n\n																				773.549.9698
X-ALT-DESC;FMTTYPE=text/html:&nbsp\;<br />\n<table align="center" border="0" cellpadding="0" cellspacing="0" style="background: rgb(239\, 70\, 68)\; width: 100%\;" width="100%">\n	<tbody>\n		<tr>\n			<td style="padding: 0in\; border: rgb(0\, 0\, 0)\; border-image: none\;">\n				<table align="center" border="0" cellpadding="0" cellspacing="0" style="width: 600px\;" width="600">\n					<tbody>\n						<tr>\n							<td style="padding: 0in\; border: rgb(0\, 0\, 0)\; border-image: none\; width: 100%\; vertical-align: top\;">\n								&nbsp\;</td>\n						</tr>\n						<tr>\n							<td style="padding: 0in\; border: rgb(0\, 0\, 0)\; border-image: none\; width: 100%\;">\n								&nbsp\;</td>\n						</tr>\n						<tr>\n							<td style="padding: 0in\; border: rgb(0\, 0\, 0)\; border-image: none\;">\n								<table border="0" cellpadding="0" cellspacing="0" style="width: 100%\;" width="100%">\n									<tbody>\n										<tr>\n											<td style="background: rgb(255\, 146\, 144)\; padding: 0in\; border: rgb(0\, 0\, 0)\; border-image: none\; width: 5px\; vertical-align: top\;">\n												&nbsp\;</td>\n											<td style="background: white\; padding: 0in\; border: rgb(0\, 0\, 0)\; border-image: none\; width: 590px\; vertical-align: top\;">\n												<table align="right" border="0" cellpadding="0" cellspacing="0" id="content_LETTER.BLOCK2" style="width: 100%\; display: table\;" width="100%">\n													<tbody>\n														<tr>\n															<td style="padding: 0in\; border: rgb(0\, 0\, 0)\; border-image: none\; width: 100%\;">\n																<table border="0" cellpadding="0" cellspacing="0" style="background: white\; width: 100%\;" width="100%">\n																	<tbody>\n																		<tr>\n																			<td style="padding: 3.75pt\; border: rgb(0\, 0\, 0)\; border-image: none\;">\n																				<strong><span style="font-size: 22pt\;"><span style="font-family: verdana\,sans-serif\;"><span style="color: black\;">SALE EXTENDED!&nbsp\;</span></span></span></strong></td>\n																		</tr>\n																	</tbody>\n																</table>\n															</td>\n														</tr>\n														<tr>\n															<td style="padding: 0in\; border: rgb(0\, 0\, 0)\; border-image: none\; width: 100%\;">\n																<table border="0" cellpadding="0" cellspacing="0" id="content_LETTER.BLOCK3" style="width: 100%\; display: table\;" width="100%">\n																	<tbody>\n																		<tr>\n																			<td style="padding: 11.25pt\; border: rgb(0\, 0\, 0)\; border-image: none\;">\n																				<span style="color: black\;"><span style="font-size: medium\;"><span style="font-family: times new roman\;">You can blame Mother Nature for this lousy Winter\, but she&#39\;s also the reason we&#39\;ve decided to extend our BUY ONE GET ONE 50% OFF SALE! Brave the cold and snow\, and be rewarded with some amazing deals on new transition pieces!</span></span></span><br />\n																				<br />\n																				<strong><span style="font-size: 24pt\;"><span style="color: black\;"><span style="font-family: times new roman\;">BUY ONE REGULARLY PRICED<br />\n																				<br />\n																				ITEM\, AND GET ANY SECOND<br />\n																				<br />\n																				ITEM FOR 50% OFF!!*</span></span></span></strong><span style="font-size: 16pt\;"><span style="color: black\;"><span style="font-family: times new roman\;">&nbsp\;&nbsp\;<br />\n																				<br />\n																				Sale Extended Through Sunday\, February 16th!<br />\n																				&nbsp\; &nbsp\;</span></span></span><br />\n																				<span style="font-size: 10pt\;"><span style="color: black\;"><span style="font-family: times new roman\;">*Includes all jewelry\, handbags and accessories.&nbsp\; 50% discount will be taken on item of equal or lesser value.&nbsp\; May not be combined with any other offers. Not applicable to sale rack items.&nbsp\; &nbsp\;</span></span></span></td>\n																		</tr>\n																	</tbody>\n																</table>\n															</td>\n														</tr>\n														<tr>\n															<td style="padding: 0in\; border: rgb(0\, 0\, 0)\; border-image: none\; width: 100%\;">\n																<table border="0" cellpadding="0" cellspacing="0" id="content_LETTER.BLOCK8" style="width: 100%\;" width="100%">\n																	<tbody>\n																		<tr>\n																			<td style="padding: 11.25pt\; border: rgb(0\, 0\, 0)\; border-image: none\;">\n																				<span style="font-size: 10pt\;"><span style="font-family: trebuchet ms\,sans-serif\;"><span style="color: rgb(102\, 102\, 102)\;">She One Boutique<br />\n																				3544 North Southport Avenue<br />\n																				Chicago IL 60657<br />\n																				773.549.9698</span></span></span></td>\n																		</tr>\n																	</tbody>\n																</table>\n															</td>\n														</tr>\n													</tbody>\n												</table>\n												<div style="clear: both\;">\n													&nbsp\;</div>\n											</td>\n											<td style="background: rgb(255\, 146\, 144)\; padding: 0in\; border: rgb(0\, 0\, 0)\; border-image: none\; width: 5px\; vertical-align: top\;">\n												&nbsp\;</td>\n											<td style="background: rgb(239\, 70\, 68)\; padding: 0in\; border: rgb(0\, 0\, 0)\; border-image: none\; width: 21px\; vertical-align: top\;">\n												&nbsp\;</td>\n										</tr>\n										<tr style="height: 5px\;">\n											<td colspan="3" style="background: rgb(255\, 146\, 144)\; padding: 0in\; border: rgb(0\, 0\, 0)\; border-image: none\; height: 5px\;">\n												&nbsp\;</td>\n											<td style="padding: 0in\; border: rgb(0\, 0\, 0)\; border-image: none\; width: 21px\; height: 5px\;">\n												&nbsp\;</td>\n										</tr>\n									</tbody>\n								</table>\n							</td>\n						</tr>\n						<tr>\n							<td style="padding: 0in 15.75pt 0in 0in\; border: rgb(0\, 0\, 0)\; border-image: none\; width: 100%\;">\n								&nbsp\;</td>\n						</tr>\n					</tbody>\n				</table>\n				<div style="clear: both\;">\n					&nbsp\;</div>\n			</td>\n		</tr>\n	</tbody>\n</table>\n<div style="clear: both\;">\n	&nbsp\;</div>\n
LOCATION:She One Boutique 3544 North Southport Avenue Chicago IL 60657
UID:e.1819.193
SEQUENCE:3
DTSTAMP:20260424T154352Z
URL:https://members.lakeviewroscoevillage.org/events/details/buy-one-get-one-50-off-02-06-2014-193
END:VEVENT

END:VCALENDAR
