BEGIN:VCALENDAR
VERSION:2.0
PRODID:-//ChamberMaster//Event Calendar 2.0//EN
METHOD:PUBLISH
X-PUBLISHED-TTL:P3D
REFRESH-INTERVAL:P3D
CALSCALE:GREGORIAN
BEGIN:VEVENT
DTSTART:20130813T120000Z
DTEND:20130813T153000Z
X-MICROSOFT-CDO-ALLDAYEVENT:FALSE
SUMMARY:Cancer Prevention Study
DESCRIPTION:Cancer Prevention Study -3 - Help the American Cancer Society finish the fight against cancer.\n\nAs it celebrates its 100th birthday\, the American Cancer Society is looking to local residents to help finish the fight against cancer by reaching full enrollment in a historic research study. Cancer Prevention Study-3 (CPS-3) will give scientists a better understanding of cancer causes and prevention. The Society is looking for local men and women between the ages of 30 and 65 from various racial/ethnic backgrounds with no personal history of cancer to help reach full enrollment of at least 300\,000 people.
X-ALT-DESC;FMTTYPE=text/html:Cancer Prevention Study -3 - Help the American Cancer Society finish the fight against cancer.<br />\nAs it celebrates its 100<sup>th</sup> birthday\, the American Cancer Society is looking to local residents to help finish the fight against cancer by reaching full enrollment in a historic research study. Cancer Prevention Study-3 (CPS-3) will give scientists a better understanding of cancer causes and prevention. The Society is looking for local men and women between the ages of 30 and 65 from various racial/ethnic backgrounds with no personal history of cancer to help reach full enrollment of at least 300\,000 people.
LOCATION:Advocate Illinois Masonic Medical Center 836 W. Wellington\, Ringel Room
UID:e.1819.19
SEQUENCE:3
DTSTAMP:20260425T022825Z
URL:https://members.lakeviewroscoevillage.org/events/details/cancer-prevention-study-08-13-2013-19
END:VEVENT

END:VCALENDAR
