BEGIN:VCALENDAR
VERSION:2.0
PRODID:-//ChamberMaster//Event Calendar 2.0//EN
METHOD:PUBLISH
X-PUBLISHED-TTL:P3D
REFRESH-INTERVAL:P3D
CALSCALE:GREGORIAN
BEGIN:VEVENT
DTSTART:20151028T150000Z
DTEND:20151028T190000Z
X-MICROSOFT-CDO-ALLDAYEVENT:FALSE
SUMMARY:Cassidy Tire & Service Career Fair
DESCRIPTION:Cassidy Tire & Service is a progressive leader in the tire retailing industry and is expanding its work force.  We are always seeking qualified applicants whom we support with "world class" training and programs.  We are currently recruiting for a  number of positions.  We offer competitive salaries and a comprehensive array of benefits.  \n\n\n\nOpen positions: http://www.cassidytire.com/?id=career_opportunity\n\n\n\nCome join us under the tent to learn how you can become a Cassidy Tire & Service team member and have a life-long career with one of Chicago's oldest and growing family businesses.
X-ALT-DESC;FMTTYPE=text/html:<p>Cassidy Tire &amp\; Service is a progressive leader in the tire retailing industry and is expanding its work force. &nbsp\;We are always seeking qualified applicants whom we support with &quot\;world class&quot\; training and programs. &nbsp\;We are currently recruiting for&nbsp\;a&nbsp\; number of positions. &nbsp\;We offer competitive salaries and a comprehensive array of benefits. &nbsp\;<br />\n<br />\nOpen positions:&nbsp\;<a href="http://www.cassidytire.com/?id=career_opportunity" style="color: rgb(17\, 85\, 204)\; font-family: arial\, sans-serif\; font-size: 12.8px\; line-height: normal\;" target="_blank">http://www.cassidytire.com/?<wbr />id=career_opportunity</a><br />\n<br />\nCome join us under the tent to learn how you can become a Cassidy Tire &amp\; Service team member and have a life-long career with one of Chicago&#39\;s oldest and growing family businesses. &nbsp\;</p>\n
LOCATION:8733 N Harlem Ave Niles\, IL
UID:e.1819.2032
SEQUENCE:3
DTSTAMP:20260423T003740Z
URL:https://members.lakeviewroscoevillage.org/events/details/cassidy-tire-service-career-fair-10-28-2015-2032
END:VEVENT

END:VCALENDAR
