BEGIN:VCALENDAR
VERSION:2.0
PRODID:-//ChamberMaster//Event Calendar 2.0//EN
METHOD:PUBLISH
X-PUBLISHED-TTL:P3D
REFRESH-INTERVAL:P3D
CALSCALE:GREGORIAN
BEGIN:VEVENT
DTSTART:20130921T003000Z
DTEND:20130921T030000Z
X-MICROSOFT-CDO-ALLDAYEVENT:FALSE
SUMMARY:Cereal Donation and Royal Initiation Party
DESCRIPTION:Bring 3+ Boxes of Cereal for Festa Parties to donate to Lakeview Pantry -- and enjoy a super-fun evening with TBOX ROYALTY - get all your TBOX QUESTIONS ANSWERED and enjoy specials including $15 Miller Lite buckets and $5 Burgers! We'll also be giving away some cool raffle prizes\, and TBOX sunglasses and other goodies to those who donate cereal.
X-ALT-DESC;FMTTYPE=text/html:<span itemprop="description"><span class="fsl">Bring 3+ Boxes of Cereal for Festa Parties to donate to <a data-hovercard="/ajax/hovercard/page.php?id=115898915771&amp\;extragetparams=%7B%22directed_target_id%22%3A0%7D" href="https://www.facebook.com/LakeviewPantry?directed_target_id=0">Lakeview Pantry</a> -- and enjoy a super-fun evening with TBOX ROYALTY - get all your TBOX QUESTIONS ANSWERED and enjoy specials including $15 <a data-hovercard="/ajax/hovercard/page.php?id=34739562380&amp\;extragetparams=%7B%22directed_target_id%22%3A0%7D" href="https://www.facebook.com/millerlite?directed_target_id=0">Miller Lite</a> buckets and $5 Burgers! We&#39\;ll also be giving away some cool raffle prizes\, and TBOX sunglasses and other goodies to those who donate cereal.</span></span>
LOCATION:Waterhouse 3407 N. Paulina
UID:e.1819.56
SEQUENCE:3
DTSTAMP:20260425T021249Z
URL:https://members.lakeviewroscoevillage.org/events/details/cereal-donation-and-royal-initiation-party-09-20-2013-56
END:VEVENT

END:VCALENDAR
