BEGIN:VCALENDAR
VERSION:2.0
PRODID:-//ChamberMaster//Event Calendar 2.0//EN
METHOD:PUBLISH
X-PUBLISHED-TTL:P3D
REFRESH-INTERVAL:P3D
CALSCALE:GREGORIAN
BEGIN:VEVENT
DTSTART;VALUE=DATE:20131128
DTEND;VALUE=DATE:20131130
TRANSP:TRANSPARENT
X-MICROSOFT-CDO-ALLDAYEVENT:TRUE
SUMMARY:Chamber Office Closed for Thanksgiving
DESCRIPTION:Our office will be closed for the Thanksgiving Holiday. Thank you!
X-ALT-DESC;FMTTYPE=text/html:Our office will be closed for the Thanksgiving Holiday. Thank you!
LOCATION:
UID:e.1819.123
SEQUENCE:3
DTSTAMP:20260424T205616Z
URL:https://members.lakeviewroscoevillage.org/events/details/chamber-office-closed-for-thanksgiving-11-28-2013-123
END:VEVENT

END:VCALENDAR
