BEGIN:VCALENDAR
VERSION:2.0
PRODID:-//ChamberMaster//Event Calendar 2.0//EN
METHOD:PUBLISH
X-PUBLISHED-TTL:P3D
REFRESH-INTERVAL:P3D
CALSCALE:GREGORIAN
BEGIN:VEVENT
DTSTART;VALUE=DATE:20160821
DTEND;VALUE=DATE:20160822
TRANSP:TRANSPARENT
X-MICROSOFT-CDO-ALLDAYEVENT:TRUE
SUMMARY:Check out the Olympic Action!
DESCRIPTION:$4 Redd's \n\n$4 Miller Lite \n\n$4 Patriotic Punch \n\n$6 Blue Moon \n\n\n\nIf you have a group or special Olympic event request\, Please contact us at: 312-453-9397 or pony@pioneeertaverngroup.com
X-ALT-DESC;FMTTYPE=text/html:$4 Redd&#39\;s&nbsp\;<br />\n$4 Miller Lite&nbsp\;<br />\n$4 Patriotic Punch&nbsp\;<br />\n$6 Blue Moon&nbsp\;<br />\n<br />\nIf you have a group or special Olympic event request\, Please contact us at: 312-453-9397 or pony@pioneeertaverngroup.com&nbsp\;<br />\n<br />\n&nbsp\;
LOCATION:1638 W. Belmont
UID:e.1819.3579
SEQUENCE:3
DTSTAMP:20260422T062033Z
URL:https://members.lakeviewroscoevillage.org/events/details/check-out-the-olympic-action-08-21-2016-3579
END:VEVENT

END:VCALENDAR
