BEGIN:VCALENDAR
VERSION:2.0
PRODID:-//ChamberMaster//Event Calendar 2.0//EN
METHOD:PUBLISH
X-PUBLISHED-TTL:P3D
REFRESH-INTERVAL:P3D
CALSCALE:GREGORIAN
BEGIN:VEVENT
DTSTART;VALUE=DATE:20160322
DTEND;VALUE=DATE:20160605
TRANSP:TRANSPARENT
X-MICROSOFT-CDO-ALLDAYEVENT:TRUE
SUMMARY:CHICAGO CELEBRITY CHEF SERIES
DESCRIPTION:The Kids' Table Announces Chicago Celebrity Chef Series - Sharing local chefs' love of food while giving back to the community\n\nThe Kids' Table\, a cooking school for kids and families kicked off 2016 with a new Foodie Adventure Series in collaboration with local celebrity chefs. \n\nNow through June\, the Chicago Celebrity Chef Series highlights a local chef each month featuring a different recipe each week\, provided courtesy of the chefs themselves. 10% of the proceeds of each series will benefit a charity of the chef's choice.
X-ALT-DESC;FMTTYPE=text/html:<div>\n<p><strong>The Kids&rsquo\; Table Announces Chicago Celebrity Chef Series -&nbsp\;</strong><em style="line-height:1.6">Sharing local chefs&rsquo\; love of food while giving back to the community</em></p>\n\n<p><span style="font-family:tahoma\; font-size:12.000000pt">The Kids&rsquo\; Table\, a cooking school for kids and families kicked off 2016 with a new Foodie Adventure Series in collaboration with local celebrity chefs. </span></p>\n\n<p><span style="font-family:tahoma\; font-size:12.000000pt">Now through June\, the </span><strong>Chicago Celebrity Chef Series </strong><span style="font-family:tahoma\; font-size:12.000000pt">highlights a local chef each month featuring a different recipe each week\, provided courtesy of the chefs themselves. 10% of the proceeds of each series will benefit a charity of the chef&rsquo\;s choice. </span></p>\n\n<p>&nbsp\;</p>\n</div>\n
LOCATION:The Kids' Table\; 2864 N. Lincoln Avenue
UID:e.1819.2857
SEQUENCE:3
DTSTAMP:20260422T100056Z
URL:https://members.lakeviewroscoevillage.org/events/details/chicago-celebrity-chef-series-03-22-2016-2857
END:VEVENT

END:VCALENDAR
